BEGIN:VCALENDAR
VERSION:2.0
PRODID:-//Kerynia Municipality - ECPv6.15.20//NONSGML v1.0//EN
CALSCALE:GREGORIAN
METHOD:PUBLISH
X-ORIGINAL-URL:https://kyreniamunicipality.com
X-WR-CALDESC:Events for Kerynia Municipality
REFRESH-INTERVAL;VALUE=DURATION:PT1H
X-Robots-Tag:noindex
X-PUBLISHED-TTL:PT1H
BEGIN:VTIMEZONE
TZID:Europe/Athens
BEGIN:DAYLIGHT
TZOFFSETFROM:+0200
TZOFFSETTO:+0300
TZNAME:EEST
DTSTART:20240331T010000
END:DAYLIGHT
BEGIN:STANDARD
TZOFFSETFROM:+0300
TZOFFSETTO:+0200
TZNAME:EET
DTSTART:20241027T010000
END:STANDARD
BEGIN:DAYLIGHT
TZOFFSETFROM:+0200
TZOFFSETTO:+0300
TZNAME:EEST
DTSTART:20250330T010000
END:DAYLIGHT
BEGIN:STANDARD
TZOFFSETFROM:+0300
TZOFFSETTO:+0200
TZNAME:EET
DTSTART:20251026T010000
END:STANDARD
BEGIN:DAYLIGHT
TZOFFSETFROM:+0200
TZOFFSETTO:+0300
TZNAME:EEST
DTSTART:20260329T010000
END:DAYLIGHT
BEGIN:STANDARD
TZOFFSETFROM:+0300
TZOFFSETTO:+0200
TZNAME:EET
DTSTART:20261025T010000
END:STANDARD
END:VTIMEZONE
BEGIN:VEVENT
DTSTART;TZID=Europe/Athens:20250119T153000
DTEND;TZID=Europe/Athens:20250119T183000
DTSTAMP:20260425T164749
CREATED:20250217T104434Z
LAST-MODIFIED:20250217T104434Z
UID:13325-1737300600-1737311400@kyreniamunicipality.com
SUMMARY:Κοπή Βασιλοπιτας
DESCRIPTION:
URL:https://kyreniamunicipality.com/event/kopi-vasilopitas-2/
CATEGORIES:Εκδηλώσεις Δήμου Κερύνειας
END:VEVENT
BEGIN:VEVENT
DTSTART;VALUE=DATE:20250126
DTEND;VALUE=DATE:20250127
DTSTAMP:20260425T164749
CREATED:20250217T104449Z
LAST-MODIFIED:20250217T104449Z
UID:13326-1737849600-1737935999@kyreniamunicipality.com
SUMMARY:Κοπή Βασιλόπιτας Λεμεσό
DESCRIPTION:
URL:https://kyreniamunicipality.com/event/kopi-vasilopitas-lemeso/
CATEGORIES:Εκδηλώσεις Δήμου Κερύνειας
END:VEVENT
END:VCALENDAR