BEGIN:VCALENDAR
VERSION:2.0
PRODID:-//Kerynia Municipality - ECPv6.15.20//NONSGML v1.0//EN
CALSCALE:GREGORIAN
METHOD:PUBLISH
X-WR-CALNAME:Kerynia Municipality
X-ORIGINAL-URL:https://kyreniamunicipality.com
X-WR-CALDESC:Events for Kerynia Municipality
REFRESH-INTERVAL;VALUE=DURATION:PT1H
X-Robots-Tag:noindex
X-PUBLISHED-TTL:PT1H
BEGIN:VTIMEZONE
TZID:Europe/Athens
BEGIN:DAYLIGHT
TZOFFSETFROM:+0200
TZOFFSETTO:+0300
TZNAME:EEST
DTSTART:20230326T010000
END:DAYLIGHT
BEGIN:STANDARD
TZOFFSETFROM:+0300
TZOFFSETTO:+0200
TZNAME:EET
DTSTART:20231029T010000
END:STANDARD
BEGIN:DAYLIGHT
TZOFFSETFROM:+0200
TZOFFSETTO:+0300
TZNAME:EEST
DTSTART:20240331T010000
END:DAYLIGHT
BEGIN:STANDARD
TZOFFSETFROM:+0300
TZOFFSETTO:+0200
TZNAME:EET
DTSTART:20241027T010000
END:STANDARD
BEGIN:DAYLIGHT
TZOFFSETFROM:+0200
TZOFFSETTO:+0300
TZNAME:EEST
DTSTART:20250330T010000
END:DAYLIGHT
BEGIN:STANDARD
TZOFFSETFROM:+0300
TZOFFSETTO:+0200
TZNAME:EET
DTSTART:20251026T010000
END:STANDARD
END:VTIMEZONE
BEGIN:VEVENT
DTSTART;TZID=Europe/Athens:20240722T190000
DTEND;TZID=Europe/Athens:20240722T190000
DTSTAMP:20260426T053012
CREATED:20240827T085951Z
LAST-MODIFIED:20240827T085951Z
UID:12880-1721674800-1721674800@kyreniamunicipality.com
SUMMARY:Πρόσκληση -Αντικατοχικές Εκδηλώσεις Μνήμης\, Τιμής και Αγώνα Επαρχίας Κερύνειας 22/07/2024
DESCRIPTION:
URL:https://kyreniamunicipality.com/event/prosklisi-antikatochikes-ekdiloseis-mnimis-timis-kai-agona-eparchias-keryneias-22-07-2024/
LOCATION:Tύμβος Μακεδονίτισσας\, Cyprus
CATEGORIES:Εκδηλώσεις Δήμου Κερύνειας
GEO:35.1542259;33.3054073
END:VEVENT
END:VCALENDAR