BEGIN:VCALENDAR
VERSION:2.0
PRODID:-//Kerynia Municipality - ECPv6.15.20//NONSGML v1.0//EN
CALSCALE:GREGORIAN
METHOD:PUBLISH
X-WR-CALNAME:Kerynia Municipality
X-ORIGINAL-URL:https://kyreniamunicipality.com
X-WR-CALDESC:Events for Kerynia Municipality
REFRESH-INTERVAL;VALUE=DURATION:PT1H
X-Robots-Tag:noindex
X-PUBLISHED-TTL:PT1H
BEGIN:VTIMEZONE
TZID:Europe/Athens
BEGIN:DAYLIGHT
TZOFFSETFROM:+0200
TZOFFSETTO:+0300
TZNAME:EEST
DTSTART:20210328T010000
END:DAYLIGHT
BEGIN:STANDARD
TZOFFSETFROM:+0300
TZOFFSETTO:+0200
TZNAME:EET
DTSTART:20211031T010000
END:STANDARD
BEGIN:DAYLIGHT
TZOFFSETFROM:+0200
TZOFFSETTO:+0300
TZNAME:EEST
DTSTART:20220327T010000
END:DAYLIGHT
BEGIN:STANDARD
TZOFFSETFROM:+0300
TZOFFSETTO:+0200
TZNAME:EET
DTSTART:20221030T010000
END:STANDARD
BEGIN:DAYLIGHT
TZOFFSETFROM:+0200
TZOFFSETTO:+0300
TZNAME:EEST
DTSTART:20230326T010000
END:DAYLIGHT
BEGIN:STANDARD
TZOFFSETFROM:+0300
TZOFFSETTO:+0200
TZNAME:EET
DTSTART:20231029T010000
END:STANDARD
BEGIN:DAYLIGHT
TZOFFSETFROM:+0200
TZOFFSETTO:+0300
TZNAME:EEST
DTSTART:20240331T010000
END:DAYLIGHT
BEGIN:STANDARD
TZOFFSETFROM:+0300
TZOFFSETTO:+0200
TZNAME:EET
DTSTART:20241027T010000
END:STANDARD
END:VTIMEZONE
BEGIN:VEVENT
DTSTART;VALUE=DATE:20230721
DTEND;VALUE=DATE:20230722
DTSTAMP:20260425T192456
CREATED:20230801T083358Z
LAST-MODIFIED:20230801T083358Z
UID:11680-1689897600-1689983999@kyreniamunicipality.com
SUMMARY:Ημέρες Μνήμης και Τιμής- Αντικατοχικές Εκδηλώσεις Επαρχίας Κερύνειας
DESCRIPTION:Ημέρες Μνήμης και Τιμής- Αντικατοχικές Εκδηλώσεις Επαρχίας Κερύνειας
URL:https://kyreniamunicipality.com/event/imeres-mnimis-kai-timis-antikatochikes-ekdiloseis-eparchias-keryneias/
LOCATION:Tύμβος Μακεδονίτισσας\, Cyprus
CATEGORIES:Εκδηλώσεις Δήμου Κερύνειας
GEO:35.1542259;33.3054073
END:VEVENT
BEGIN:VEVENT
DTSTART;VALUE=DATE:20230705
DTEND;VALUE=DATE:20230706
DTSTAMP:20260425T192457
CREATED:20230801T080718Z
LAST-MODIFIED:20230801T080900Z
UID:10824-1688515200-1688601599@kyreniamunicipality.com
SUMMARY:Τιμητική εκδήλωση για τους τελειόφοιτους Κερυνειώτες μαθητές και Aριστούχους Κερυνειώτες
DESCRIPTION:Εκδήλωση τελειοφοίτων και Αριστ. Κερυνειωτών\nΑντιφώνηση Δαίδαλου Ν. Κυπρή
URL:https://kyreniamunicipality.com/event/timitiki-ekdilosi-gia-tous-teleiofoitous-keryneiotes-mathites-kai-aristouchous-keryneiotes/
CATEGORIES:Εκδηλώσεις Δήμου Κερύνειας
END:VEVENT
BEGIN:VEVENT
DTSTART;VALUE=DATE:20230624
DTEND;VALUE=DATE:20230626
DTSTAMP:20260425T192457
CREATED:20240903T120146Z
LAST-MODIFIED:20240903T120146Z
UID:13028-1687564800-1687737599@kyreniamunicipality.com
SUMMARY:Διήμερο στο Τρόοδος
DESCRIPTION:Διήμερη καλοκαιρινή εξόρμηση στην περιοχή του Τροόδους στις 24 και 25 Ιουνίου \nΤο Δημοτικό Συμβούλιο Νεολαίας Δήμου Κερύνειας πραγματοποίησε διήμερη εκδρομή στη Περιοχή Τροόδους στις 24 και 25 Ιουνίου με σκοπό τη γνωριμία και τη σύσφιξη των σχέσεων των μελών του\, μέσα από ομαδικές δραστηριότητες στη φύση. Οι συμμετέχοντες είχαν επιπλέον την ευκαιρία να γνωρίσουν το όμορφο και γραφικό χωριό της Κυπερούντας και να μάθουν σημαντικές πληροφορίες για την ιστορία του\, από τον αντιπρόεδρο του κοινοτικού συμβουλίου Κυπερούντας κύριο Κωνσταντίνο Κωνσταντίνου. \nΝωρίς το πρωί του Σαββάτου\, οι συμμετέχοντες επιβιβάστηκαν στα λεωφορεία από Λεμεσό και Λευκωσία με προορισμό το πάρκο δραστηριοτήτων ‘Adventure Mountain Park’ στην Κυπερούντα. Η εκπαίδευση περιελάβανε τα περιπετειώδη αθλήματα της αναρρίχησης βράχου\, του προσανατολισμού και της τοξοβολίας. Οι εκπαιδευτές ανέλαβαν δράση και μετέφεραν την απαραίτητη πληροφορία και γνώση στους συμμετέχοντες τόσο για θέματα τεχνικής όσο και θέματα ασφάλειας\, προτού αρχίσει το πρακτικό μέρος των δραστηριοτήτων. Η συγκέντρωση\, η μεθοδικότητα\, η ομαδικότητα και η σωστή τεχνική ήταν τα κύρια συστατικά για την επιτυχή ολοκλήρωση των αθλημάτων αυτών. \nΜετά από το μεσημεριανό φαγητό και τη σχετική ξεκούραση\, το πρόγραμμα περιελάβανε ξενάγηση στο μεγαλύτερο ορεινό χωριό της Κύπρου\, την Πανέμορφη Κυπερούντα. Μάθαμε για τις ιδιαιτερότητες του κλίματος του χωριού και λόγω τούτου\, την επιλογή της περιοχής από την Αγγλική αποικιοκρατία για ανέγερση Σανατορίου. Μάθαμε για την ιστορία του χωριού\, τις ασχολίες των κατοίκων και την καθοριστική συμβολή τους στον εθνικοαπελευθερωτικό αγώνα 1955-59. Επισκεφθήκαμε αξιοθέατα\, μνημεία\, εκκλησίες και το μουσείο Αγώνος ΕΟΚΑ 1955 -1959 και μάθαμε σημαντικές πληροφορίες για αυτά. \nΤο ξενοδοχείο Τρόοδος ήταν ο τελευταίος σταθμός της μέρας για φαγητό\, καλή μουσική και ξεκούραση. \nΚυριακή πρωί τα λεωφορεία μας μετέφεραν στη περιοχή του Ολύμπου για να αρχίσει η πεζοπορία στο μονοπάτι Άρτεμις. \nΗ διαδρομή ακολουθεί κυκλική πορεία γύρω από τη Χιονίστρα σε μέσο υψόμετρο τα 1850m. Με τη βοήθεια των πινακίδων πληροφόρησης του μονοπατιού είχαμε την ευκαιρία να εξερευνήσουμε το δάσος: τα δύο αιωνόβια δέντρα μαύρης πεύκης ηλικίας πέραν των 500 χρόνων\, την πλούσια και σπάνια χλωρίδα (με είδη όπως νεπέτα\, τεύκριον\, άλυσον\, χαχομηλιά και αόρατο) και τα πετρώματα της περιοχής (όπως δουνίτη\, χαρζβουργίτη\, πυροξενίτη). Επίσης\, απολαύσαμε πολύ όμορφη θέα προς περιοχές και χωριά των επαρχιών Λεμεσού\, Πάφου και Λευκωσίας. Ολόκληρη η διαδρομή βρίσκεται μέσα στο Εθνικό Δασικό Πάρκο Τροόδους που είναι περιοχή NATURA 2000. \nΙστορικό ενδιαφέρον παρουσιάζουν τα Τεισιά της Παλιάς Χώρας τα οποία συναντήσαμε λίγο μετά το μέσον του μονοπατιού. Είναι ερείπια πρόχειρων οχυρωματικών έργων που κτίστηκαν κατά τον τελευταίο χρόνο της Ενετικής περιόδου της Κύπρου (1571μ.Χ.) από ομάδα Ενετών στρατηγών με στόχο να αμυνθούν κατά των Οθωμανών. \nΜετά την ολοκλήρωση της πεζοπορίας αφιερώσαμε το υπόλοιπο του πρωινού για ξεκούραση στις καφετέριες της πλατείας του Τροόδους με κουβέντα γι’ αυτά που είδαμε και μάθαμε αλλά και για τα επόμενα που ακολουθούν και θα μας φέρουν πάλι μαζί. \nΓια μεσημεριανό μεταβήκαμε στο χωριό Πρόδρομος στην φιλόξενη ταβέρνα ‘Βυζάντιο’ όπου ήταν και ο τελευταίος σταθμός για την ολοκλήρωση του διημέρου. Οι συμμετέχοντες γεμάτοι από συναισθήματα\, χρώματα και όμορφες εικόνες\, αντάλλαξαν ευχές για γρήγορη αντάμωση και επιβιβάστηκαν στα λεωφορεία κι εμείς ως μέλη του συμβουλίου\, τους υποσχεθήκαμε ότι θα παραμείνουμε συνεπείς στα καλέσματα μας μέχρι την αντάμωση στο λιμανάκι της όμορφης και αλησμόνητης πόλης της Κερύνειας μας. \nΘερμές ευχαριστίες στην Αντιδήμαρχο κ Μαρία Μουστάκα Κουρούγιαννη και τον σύζυγο της κ Ανδρέα Κουρούγιαννη που μας τίμησαν με την συμμετοχή τους σε ολόκληρο το διήμερο\, στον Δημοτικό Σύμβουλο κ. Άκη Βιολάρη που μας τίμησε με την παρουσία του αλλά και στον Δημοτικό Σύμβουλο κ. Άκη Σχίζα για την αμέριστη βοήθεια και στήριξή του σε όλη τη διάρκεια της προετοιμασίας και οργάνωσης. \nΙδιαίτερα ευχαριστούμε και όλους τους συμμετέχοντες και σας υποσχόμαστε ακόμα περισσότερο άρωμα Κερύνειας το συντομότερο.
URL:https://kyreniamunicipality.com/event/diimero-sto-troodos/
CATEGORIES:Εκδηλώσεις Δ.Σ. Νεολαίας
END:VEVENT
BEGIN:VEVENT
DTSTART;VALUE=DATE:20230614
DTEND;VALUE=DATE:20230615
DTSTAMP:20260425T192457
CREATED:20230524T055546Z
LAST-MODIFIED:20230524T055546Z
UID:9803-1686700800-1686787199@kyreniamunicipality.com
SUMMARY:ΠΡΟΣΚΛΗΣΗ 50 ΧΡΟΝΩΝ ΛΕΣΧΗΣ LIONS ΚΕΡΥΝΕΙΑΣ
DESCRIPTION:
URL:https://kyreniamunicipality.com/event/prosklisi-50-chronon-leschis-lions-keryneias/
CATEGORIES:Εκδηλώσεις Δήμου Κερύνειας
END:VEVENT
BEGIN:VEVENT
DTSTART;VALUE=DATE:20230605
DTEND;VALUE=DATE:20230606
DTSTAMP:20260425T192457
CREATED:20230524T055255Z
LAST-MODIFIED:20230608T063143Z
UID:9799-1685923200-1686009599@kyreniamunicipality.com
SUMMARY:ΠΡΟΣΚΛΗΣΗ - Γιορτή του Κατακλυσμού Επαρχίας Κερύνειας
DESCRIPTION:
URL:https://kyreniamunicipality.com/event/prosklisi-giorti-tou-kataklysmou-eparchias-keryneias/
CATEGORIES:Εκδηλώσεις Δήμου Κερύνειας
END:VEVENT
BEGIN:VEVENT
DTSTART;TZID=Europe/Athens:20230527T093000
DTEND;TZID=Europe/Athens:20230527T131500
DTSTAMP:20260425T192457
CREATED:20230524T055014Z
LAST-MODIFIED:20230524T055039Z
UID:9793-1685179800-1685193300@kyreniamunicipality.com
SUMMARY:ΠΡΟΣΚΛΗΣΗ ΣΤΗΝ ΗΜΕΡΙΔΑ ΙΣΤΟΡΙΑ ΤΩΝ ΠΟΛΕΩΝ
DESCRIPTION:
URL:https://kyreniamunicipality.com/event/prosklisi-stin-imerida-istoria-ton-poleon/
CATEGORIES:Εκδηλώσεις Δήμου Κερύνειας
END:VEVENT
BEGIN:VEVENT
DTSTART;VALUE=DATE:20230507
DTEND;VALUE=DATE:20230508
DTSTAMP:20260425T192457
CREATED:20230303T115130Z
LAST-MODIFIED:20230310T074725Z
UID:9536-1683417600-1683503999@kyreniamunicipality.com
SUMMARY:Συνεστίαση Κερυνειωτων
DESCRIPTION:
URL:https://kyreniamunicipality.com/event/synestiasi-keryneioton/
END:VEVENT
BEGIN:VEVENT
DTSTART;VALUE=DATE:20230507
DTEND;VALUE=DATE:20230508
DTSTAMP:20260425T192457
CREATED:20230420T081808Z
LAST-MODIFIED:20230420T081808Z
UID:9680-1683417600-1683503999@kyreniamunicipality.com
SUMMARY:Πρόσκληση - Πασχαλινή Συνεστίαση Κερυνειωτών
DESCRIPTION:
URL:https://kyreniamunicipality.com/event/prosklisi-paschalini-synestiasi-keryneioton/
CATEGORIES:Εκδηλώσεις Δήμου Κερύνειας
END:VEVENT
BEGIN:VEVENT
DTSTART;VALUE=DATE:20230505
DTEND;VALUE=DATE:20230506
DTSTAMP:20260425T192457
CREATED:20230505T115835Z
LAST-MODIFIED:20240902T120000Z
UID:12907-1683244800-1683331199@kyreniamunicipality.com
SUMMARY:Το Ταβερνάκι της Νεολαίας
DESCRIPTION:Το ταβερνάκι της νεολαίας ξεκίνησε από μια πρωτοβουλία του Συμβουλίου Νεολαίας\, όχι μόνο για να φέρει κοντά τους νέους του Δήμου μας αλλά και για να ξαναδώσει ζωή στον παραμυθένιο χώρο του προσωρινού μας δημαρχείου. \nΞεκινήσαμε πειραματικά το Μάιο του 2023 με 2-3 τραπεζάκια\, δοκιμάσαμε την κουζίνα μας\, σιγά-σιγά αναπτύξαμε και εμπλουτίσαμε τον εξοπλισμό μας και ανοίξαμε επίσημα τις πόρτες μας για το Κερυνιώτικο και όχι μόνο κοινό\, τον Αύγουστο. Από τον Αύγουστο μέχρι και σήμερα καταφέραμε\, με μια μικρή ομάδα εθελοντών\, να ανοίγουμε το ταβερνάκι μας μια φορά το μήνα με μεγάλη επιτυχία! \nΣτόχος μας είναι να συνεχίσουμε αυτή την όμορφη προσπάθεια\, να την εμπλουτίσουμε με ζωντανή μουσική και να αυξήσουμε τη χωρητικότητα. Στην όμορφη αυτή ατμόσφαιρα\, Κερυνειώτες και μη\, θα έχουν την ευκαιρία να περάσουν μια αξέχαστη βραδιά αναπολώντας τη λατρευτή μας πόλη και μοιράζοντας εμπειρίες και αναμνήσεις ευχόμενοι σύντομα να επιστρέψουμε στον τόπο που μας γέννησε. \nΑν ενδιαφέρεστε για το ταβερνάκι μας\, ακολουθήστε τη σελίδα μας στο facebook (https://www.facebook.com/kyreniayouth) όπου ανεβάζουμε τα events μας και κάντε έγκαιρα την κράτηση σας. Ανυπομονούμε να σας έχουμε στην παρέα μας!
URL:https://kyreniamunicipality.com/event/to-tavernaki-tis-neolaias/
CATEGORIES:Εκδηλώσεις Δ.Σ. Νεολαίας
END:VEVENT
BEGIN:VEVENT
DTSTART;VALUE=DATE:20230325
DTEND;VALUE=DATE:20230326
DTSTAMP:20260425T192457
CREATED:20230303T115246Z
LAST-MODIFIED:20230303T115246Z
UID:9535-1679702400-1679788799@kyreniamunicipality.com
SUMMARY:Συμμετοχή Δήμου Κερύνειας και Δημοτικού Συμβουλίου Νεολαίας στην Εθνική παρέλαση.
DESCRIPTION:
URL:https://kyreniamunicipality.com/event/symmetochi-dimou-keryneias-kai-dimotikou-symvouliou-neolaias-stin-ethniki-parelasi/
END:VEVENT
BEGIN:VEVENT
DTSTART;VALUE=DATE:20230219
DTEND;VALUE=DATE:20230220
DTSTAMP:20260425T192457
CREATED:20230509T071909Z
LAST-MODIFIED:20230509T081935Z
UID:9755-1676764800-1676851199@kyreniamunicipality.com
SUMMARY:Τελικός Κυπέλου Ανδρών Β΄ Κατηγορίας
DESCRIPTION:Αυτή την Κυριακή 19/2/23 στις 18:30 στο γήπεδο του Κεραυνού Στροβόλου\, η ΠΑΕΕΚ Κερύνειας διεκδικεί τρόπαιο μετά από πολλά χρόνια . Θα παλέψει για το κύπελλο της Β’ κατηγορίας απέναντι στην ιστορική ΕΝΑΔ Αγ. Δομετίου. \nΘα είμαστε όλοι εκεί! \nΠΑΕΕΚ – ΚΕΡΥΝΕΙΑ – ΕΠΙΣΤΡΟΦΗ
URL:https://kyreniamunicipality.com/event/telikos-kypelou-andron-v%ce%84-katigorias/
CATEGORIES:Εκδηλώσεις Δ.Σ. Νεολαίας
END:VEVENT
BEGIN:VEVENT
DTSTART;VALUE=DATE:20230215
DTEND;VALUE=DATE:20230216
DTSTAMP:20260425T192457
CREATED:20230303T115026Z
LAST-MODIFIED:20230303T115045Z
UID:9534-1676419200-1676505599@kyreniamunicipality.com
SUMMARY:Γιορτή των Γραμμάτων
DESCRIPTION:
URL:https://kyreniamunicipality.com/event/giorti-ton-grammaton-5/
END:VEVENT
BEGIN:VEVENT
DTSTART;VALUE=DATE:20230115
DTEND;VALUE=DATE:20230116
DTSTAMP:20260425T192457
CREATED:20230117T100630Z
LAST-MODIFIED:20230117T102402Z
UID:9139-1673740800-1673827199@kyreniamunicipality.com
SUMMARY:Η ΚΟΠΗ ΤΗΣ ΒΑΣΙΛΟΠΙΤΤΑΣ ΤΩΝ ΕΚΤΟΠΙΣΜΕΝΩΝ ΚΕΡΥΝΕΙΩΤΩΝ - ΕΚΔΗΛΩΣΗ ΑΓΑΠΗΣ ΚΑΙ ΜΝΗΜΗΣ
DESCRIPTION:Φωτο/Βίντεο: Πέτρος Πετρίδης \nΦίλες και φίλοι\, με χαρά και συγκίνηση παρευρέθηκα σήμερα Κυριακή 15/1/2023\, στην καθιερωμένη εκδήλωση της κοπής της Βασιλόπιττας\, των πολυαγαπημένων μου Κερυνειωτών\, με την ευχή να είναι αυτός ο χρόνος που θα γυρίσουμε πίσω στους τόπους μας που από το 1974\, στενάζουν κάτω από την μπότα του βάρβαρου εισβολέα και κατακτητή.\nΣτην Εκδήλωση Αγάπης και Μνήμης που πραγματοποιήθηκε στην Αίθουσα Εκδηλώσεων του Ιερού Ναού Αποστόλου Ανδρέα στο Πλατύ Αγλαντζιάς\, και που διοργάνωσαν η Δήμαρχος Κερύνειας\, Ρίτα Ελισσαίου-Κωμοδίκη\, το Δημοτικό Συμβούλιο και το Δημοτικό Συμβούλιο Νεολαίας του εκτοπισμένου Δήμου Κερύνειας\, τον κόσμο καλωσόρισε ο Πρόεδρος του Συμβουλίου Νεολαίας\, Θεόδωρος Λαφαζάνης\, ενώ χαιρετισμούς απηύθυναν η Δήμαρχος Κερύνειας\, Ρίτα Ελισσαίου-Κωμοδίκη\, και ο Πανιερώτατος Μητροπολίτης Κυρηνείας κ.κ. Χρυσόστομος\, ο οποίος ευλόγησε και την Βασιλόπιττα. Το τυχερό φλουρί ήταν στο κομμάτι της Βασιλόπιτας που δόθηκε στο Πολιτιστικό Ίδρυμα\, «Κερύνεια Χρυσοκάβα».\nΤην Εκδήλωση τίμησαν με την παρουσία τους\, εκτός από τον Μητροπολίτη Κυρηνείας\, οι Βουλευτές Κερύνειας Μάριος Μαυρίδης\, Ρίτα Θεοδώρου Σούπερμαν\, πρώην βουλευτές\, εκπρόσωποι κομμάτων\, ο Δήμαρχος Λαπήθου Νεοπτόλεμος Κότσαπας\, πρώην Δήμαρχοι\, πρόεδροι ή εκπρόσωποι Σωματείων και Οργανώσεων του Δήμου Κερύνειας και πολλοί Κερυνειώτες.\nΜουσική συντροφιά μας κράτησαν\, η Κερυνειώτισσα\, Χριστίνα Σιαμούνκη\, τραγούδι\, και η Μαρία Σιαμακίδη\, πιάνο. \nΟ Δήμος Κερύνειας εργάζεται ακατάπαυστα για να κρατήσει ενωμένους τους Κερυνειώτες στον Αγώνα για απελευθέρωση της ημικατεχόμενης γης μας και της εξακρίβωσης της τύχης όλων των Αγνοουμένων μας. Με τις διάφορες σημαντικές εκδηλώσεις που διοργανώνει\, σε τακτά χρονικά διαστήματα\, δίνει την ευκαιρία στους εκτοπισμένους Κερυνειώτες να συναντιόνται\, να ενημερώνονται και να κρατούν τις μνήμες αξεθώριαστες μέχρι την Άγια μέρα της Επιστροφής.\nΧίλια Εύγε στην άξια Δήμαρχο\, στο εκλεκτό Δημοτικό Συμβούλιο και στο λαμπρό Δημοτικό Συμβούλιο Νεολαίας του Δήμου Κερύνειας\, αξίζουν τη στήριξη όλων μας.
URL:https://kyreniamunicipality.com/event/i-kopi-tis-vasilopittas-ton-ektopismenon-keryneioton-ekdilosi-agapis-kai-mnimis/
CATEGORIES:Εκδηλώσεις Δ.Σ. Νεολαίας,Εκδηλώσεις Δήμου Κερύνειας
END:VEVENT
BEGIN:VEVENT
DTSTART;VALUE=DATE:20221210
DTEND;VALUE=DATE:20221211
DTSTAMP:20260425T192457
CREATED:20220912T090236Z
LAST-MODIFIED:20230315T072146Z
UID:8004-1670630400-1670716799@kyreniamunicipality.com
SUMMARY:13ο Ετήσιο Συμπόσιο Δήμου Κερύνειας (10/12/22)
DESCRIPTION:
URL:https://kyreniamunicipality.com/event/13o-etisio-symposio-dimou-keryneias-10-12-22/
CATEGORIES:Εκδηλώσεις Δήμου Κερύνειας
END:VEVENT
BEGIN:VEVENT
DTSTART;VALUE=DATE:20221203
DTEND;VALUE=DATE:20221204
DTSTAMP:20260425T192457
CREATED:20221130T124722Z
LAST-MODIFIED:20230315T072218Z
UID:8852-1670025600-1670111999@kyreniamunicipality.com
SUMMARY:ΕΤΗΣΙΟ 13o ΣΥΜΠΟΣΙΟ  «Ειρηνική Επιστροφή στην Κερύνεια μετά τη λύση του Κυπριακού - Γραφείο Επιστροφής Δήμου Κερύνειας»
DESCRIPTION:Ο Δήμος Κερύνειας και το Τεχνολογικό Πανεπιστήμιο Κύπρου σας προσκαλούν στο δέκατο τρίτο ετήσιο συμπόσιο με θέμα: \nΕΤΗΣΙΟ 13o ΣΥΜΠΟΣΙΟ\n«Ειρηνική Επιστροφή στην Κερύνεια μετά τη λύση του Κυπριακού – Γραφείο Επιστροφής Δήμου Κερύνειας» \nΣάββατο\, 3 Δεκεμβρίου 2022\nΞενοδοχείο «Κλεοπάτρα»\, Λευκωσία\nΏρα: 8:30 π.μ.\n(από τις 8:30 π.μ. μέχρι τις 12:30 μ.μ.) \n  \n08.30 – 09.00 Εγγραφές Συνέδρων \n09.00 – 09.10 Χαιρετισμοί \n\nΧαιρετισμός Δημάρχου\, κ. Ρίτας Ελισσαίου Κωμοδίκη\nΧαιρετισμός Πρύτανη Τεχνολογικού Πανεπιστημίου Κύπρου\, Καθηγητή Παναγιώτη Ζαφείρη\n\n09.19 – 09.30 Τιμητικές Διακρίσεις\nΜάριος Μαυρίδης\, Βουλευτής Κερύνειας\nΡίτα Θεοδώρου Σούπερμαν\, Βουλευτής Κερύνειας\nΧρίστος Χριστόφιας\, Βουλευτής Κερύνειας\nΓεώργιος Θεοφίλου\, Φιλόλογος\, τέως Δημοτικός Σύμβουλος Κερύνειας \n09.30 – 09.50 Εισηγήσεις \n«Είμαστε Έτοιμοι για Ειρηνική Επιστροφή στην Ελεύθερη Κερύνεια;»\nΣώτος Βοσκαρίδης\, Συνεργαζόμενος Καθηγητής -Τμήμα Ηλεκτρολόγων Μηχανικών και Μηχανικών Η/Υ και Πληροφορικής -Τεχνολογικό Πανεπιστήμιο Κύπρου \n«Το Κράτος Δικαίου (Rule of Law) της Ευρωπαϊκής Ένωσης την επόμενη μέρα της Επιστροφής»\nΚώστας Μαυρίδης\, Ευρωβουλευτής -Πρόεδρος Πολιτικής Επιτροπής για την Μεσόγειο \n«Ο Κοινοτικός Ενοριακός Τρόπος Ζωής στον Ελληνικό Πολιτισμό: Προϋποθέσεις για μια Αληθινή Επιστροφή»\nΚαθηγητής Παντελής Κελίρης\, Αντιπρύτανης Ακαδημαϊκών Υποθέσεων -Τεχνολογικό Πανεπιστήμιο Κύπρου \n10.45 – 11.15 Διάλειμμα\n11.15 – 12.30 Συζήτηση – Συμπεράσματα \nΣυντονιστής του Συμποσίου: Ιωσήφ Βιολάρης\, Δημοτικός Σύμβουλος\, Πρόεδρος Επιτροπής Διαφώτισης. \nΟργανωτική Επιτροπή:\nΡίτα Ελισσαίου Κωμοδίκη\, Δήμαρχος Κερύνειας\nΙωσήφ Βιολάρης\, Δημοτικός Σύμβουλος\nΠαναγιώτης Ζαφείρης\, Πρύτανης Τεχνολογικού Πανεπιστημίου Κύπρου\nΣώτος Βοσκαρίδης\, Συνεργαζόμενος Καθηγητής -Τμήμα Ηλεκτρολόγων Μηχανικών και Μηχανικών Η/Υ και Πληροφορικής -Τεχνολογικό Πανεπιστήμιο Κύπρου\nΓεώργιος Θεοφίλου\, Φιλόλογος\, τέως Δημοτικός Σύμβουλος Κερύνειας\nΦωτογραφικό Υλικό από το αρχείο του Δήμου Κερύνειας \nΔιοργανωτές: Δήμος Κερύνειας\, Τεχνολογικό Πανεπιστήμιο Κύπρου\nΧορηγός Επικοινωνίας: ΡΙΚ \n \n﻿
URL:https://kyreniamunicipality.com/event/etisio-13o-symposio-eiriniki-epistrofi-stin-keryneia-meta-ti-lysi-tou-kypriakou-grafeio-epistrofis-dimou-keryneias/
CATEGORIES:Εκδηλώσεις Δήμου Κερύνειας
END:VEVENT
BEGIN:VEVENT
DTSTART;TZID=Europe/Athens:20221117T183000
DTEND;TZID=Europe/Athens:20221117T183000
DTSTAMP:20260425T192457
CREATED:20221012T115932Z
LAST-MODIFIED:20221012T115932Z
UID:8096-1668709800-1668709800@kyreniamunicipality.com
SUMMARY:Προβολή ντοκιμαντέρ "Άγιος Αμβρόσιος-Χρέος και Τάμα"
DESCRIPTION:Χώρος: Πολιτιστικό Ίδρυμα Καραβιωτών. \nΏρα: 6.30 μ.μ.
URL:https://kyreniamunicipality.com/event/provoli-ntokimanter-agios-amvrosios-chreos-kai-tama/
CATEGORIES:Εκδηλώσεις Δήμου Κερύνειας
END:VEVENT
BEGIN:VEVENT
DTSTART;TZID=Europe/Athens:20221116T190000
DTEND;TZID=Europe/Athens:20221116T190000
DTSTAMP:20260425T192457
CREATED:20221012T115852Z
LAST-MODIFIED:20221012T120853Z
UID:8094-1668625200-1668625200@kyreniamunicipality.com
SUMMARY: Έκθεση φωτογραφιών Νεολαίας Δήμου Καραβά
DESCRIPTION:Ο Παγκύπριος Διαγωνισμός πραγματοποιήθηκε το 2020 εν μέσω πανδημίας από το Δημοτικό Συμβούλιο Νεολαίας Δήμου Καραβά με στόχο να ενθαρρύνει νέους και παλιούς\, να προβάλουν μέσα από το φωτογραφικό φακό την ιστορία και τις μνήμες τους από τον κατεχόμενο Δήμο Καραβά.  Ο Διαγωνισμός είχε ως θέμα τη φωτογραφική αποτύπωση του Δήμου Καραβά και των περιχώρων του με έμφαση στους Ανθρώπους\, το Φυσικό τοπίο\, τα Ιστορικά Μνημεία και την Αρχιτεκτονική\, την Κουλτούρα και τον Πολιτισμό. \nΔιοργανωτής: Δήμος Καραβά & Δ.Σ. Νεολαίας Δήμου Καραβά \nΤίτλος: Έκθεση Φωτογραφίας & Απονομή Βραβείων Διαδικτυακού Φωτογραφικού Διαγωνισμού 2020 «Καραβιώτικες Συντυσιές» \nΧώρος: Πολιτιστικό Ίδρυμα Καραβιωτών \nΏρα: 7 μ.μ.
URL:https://kyreniamunicipality.com/event/ekthesi-fotografion-neolaias-dimou-karava/
CATEGORIES:Εκδηλώσεις Δήμου Κερύνειας
END:VEVENT
BEGIN:VEVENT
DTSTART;TZID=Europe/Athens:20221115T090000
DTEND;TZID=Europe/Athens:20221115T200000
DTSTAMP:20260425T192457
CREATED:20221012T115509Z
LAST-MODIFIED:20221012T115509Z
UID:8085-1668502800-1668542400@kyreniamunicipality.com
SUMMARY:Έκθεση φωτογραφίας στην αίθουσα «Ειρήνη» στο τέρμα της οδού Λήδρας
DESCRIPTION:Διοργανωτής: Προσφυγικό Σωματείο «Αδούλωτη Κερύνεια». \nΧώρος: Αίθουσας «Ειρήνη» τέρμα οδού Λήδρας \nΏρα:  9π.μ. – 8 μ.μ.
URL:https://kyreniamunicipality.com/event/ekthesi-fotografias-stin-aithousa-eirini-sto-terma-tis-odou-lidras-2/
CATEGORIES:Εκδηλώσεις Δήμου Κερύνειας
END:VEVENT
BEGIN:VEVENT
DTSTART;VALUE=DATE:20221115
DTEND;VALUE=DATE:20221116
DTSTAMP:20260425T192457
CREATED:20221012T115724Z
LAST-MODIFIED:20221012T115808Z
UID:8092-1668470400-1668556799@kyreniamunicipality.com
SUMMARY:Μεγάλη εκδήλωση της Επιτροπής Κατεχομένων Δήμων στην Λάρνακα στην οποία θα παρευρεθούν οι Δήμοι και τα οργανωμένα σύνολα της Κερύνειας.
DESCRIPTION:Διοργανωτής: \nΤίτλος: \nΧώρος: \nΏρα:
URL:https://kyreniamunicipality.com/event/megali-ekdilosi-tis-epitropis-katechomenon-dimon-stin-larnaka-stin-opoia-tha-parevrethoun-oi-dimoi-kai-ta-organomena-synola-tis-keryneias/
CATEGORIES:Εκδηλώσεις Δήμου Κερύνειας
END:VEVENT
BEGIN:VEVENT
DTSTART;TZID=Europe/Athens:20221114T183000
DTEND;TZID=Europe/Athens:20221114T183000
DTSTAMP:20260425T192457
CREATED:20221012T115653Z
LAST-MODIFIED:20230315T072939Z
UID:8090-1668450600-1668450600@kyreniamunicipality.com
SUMMARY:Αντικατοχική Πορεία για καταδίκη της ανακήρυξης του ψευδοκράτους με πιθανή τελετή ή καλλιτεχνικό πρόγραμμα
DESCRIPTION:Διοργανωτές: Δήμοι Κερύνειας\, Λαπήθου Καραβά\, Δημοτικά Συμβούλια Νεολαίας Δήμου Κερύνειας\, Λαπήθου\, Καραβά και όλα τα Οργανωμένα Σύνολα της Επαρχίας Κερύνειας. \nΧώρος εκκίνησης: Υπουργείο Εσωτερικών \nΏρα εκκίνησης: 6:30μ.μ. \nΔιαδρομή: Υπουργείο Εσωτερικών μέχρι το οδόφραγμα της οδού Λήδρας μέσω της Λεωφ. Ευαγόρου\n \nhttps://kyreniamunicipality.com/wp-content/uploads/video-14112022.mp4
URL:https://kyreniamunicipality.com/event/antikatochiki-poreia-gia-katadiki-tis-anakiryksis-tou-psevdokratous-me-pithani-teleti-i-kallitechniko-programma/
CATEGORIES:Εκδηλώσεις Δήμου Κερύνειας
END:VEVENT
BEGIN:VEVENT
DTSTART;VALUE=DATE:20221114
DTEND;VALUE=DATE:20221119
DTSTAMP:20260425T192457
CREATED:20220912T090208Z
LAST-MODIFIED:20230315T072959Z
UID:7998-1668384000-1668815999@kyreniamunicipality.com
SUMMARY:Ημέρες Επαρχίας Κερύνειας (14-18 /11)
DESCRIPTION:
URL:https://kyreniamunicipality.com/event/imeres-eparchias-keryneias-14-18-11/
CATEGORIES:Εκδηλώσεις Δήμου Κερύνειας
END:VEVENT
BEGIN:VEVENT
DTSTART;VALUE=DATE:20221114
DTEND;VALUE=DATE:20221115
DTSTAMP:20260425T192457
CREATED:20221012T115555Z
LAST-MODIFIED:20221012T115555Z
UID:8088-1668384000-1668470399@kyreniamunicipality.com
SUMMARY:Έκθεση Επιτροπής Κατεχομένων Δήμων στην Λάρνακα. (πρωί) με συμμετοχή των Δήμων Κερύνειας\, Λαπήθου και Καραβά
DESCRIPTION:Διοργανωτής: Επιτροπή Κατεχομένων Δήμων \nΧώρος: \nΏρα:
URL:https://kyreniamunicipality.com/event/ekthesi-epitropis-katechomenon-dimon-stin-larnaka-proi-me-symmetochi-ton-dimon-keryneias-lapithou-kai-karava/
CATEGORIES:Εκδηλώσεις Δήμου Κερύνειας
END:VEVENT
BEGIN:VEVENT
DTSTART;VALUE=DATE:20221114
DTEND;VALUE=DATE:20221115
DTSTAMP:20260425T192457
CREATED:20230509T074029Z
LAST-MODIFIED:20230509T074029Z
UID:9762-1668384000-1668470399@kyreniamunicipality.com
SUMMARY:Αντικατοχική Εκδήλωση Επαρχίας Κερύνειας
DESCRIPTION:
URL:https://kyreniamunicipality.com/event/antikatochiki-ekdilosi-eparchias-keryneias/
CATEGORIES:Εκδηλώσεις Δ.Σ. Νεολαίας
END:VEVENT
BEGIN:VEVENT
DTSTART;TZID=Europe/Athens:20221113T090000
DTEND;TZID=Europe/Athens:20221113T200000
DTSTAMP:20260425T192457
CREATED:20221012T115447Z
LAST-MODIFIED:20221012T115447Z
UID:8084-1668330000-1668369600@kyreniamunicipality.com
SUMMARY:Έκθεση φωτογραφίας στην αίθουσα «Ειρήνη» στο τέρμα της οδού Λήδρας
DESCRIPTION:Διοργανωτής: Προσφυγικό Σωματείο «Αδούλωτη Κερύνεια». \nΧώρος: Αίθουσας «Ειρήνη» τέρμα οδού Λήδρας \nΏρα:  9π.μ. – 8 μ.μ.
URL:https://kyreniamunicipality.com/event/ekthesi-fotografias-stin-aithousa-eirini-sto-terma-tis-odou-lidras/
CATEGORIES:Εκδηλώσεις Δήμου Κερύνειας
END:VEVENT
BEGIN:VEVENT
DTSTART;TZID=Europe/Athens:20221111T073000
DTEND;TZID=Europe/Athens:20221111T200000
DTSTAMP:20260425T192457
CREATED:20221012T120405Z
LAST-MODIFIED:20221012T120405Z
UID:8098-1668151800-1668196800@kyreniamunicipality.com
SUMMARY:Αιμοδοσία
DESCRIPTION:Χώρος:  Κέντρο Υγείας Έγκωμης (παρά τω ΑΛΦΑΜΕΓΑ) \nΏρα: 7:30 π.μ.-8:00μ.μ.
URL:https://kyreniamunicipality.com/event/aimodosia/
CATEGORIES:Εκδηλώσεις Δήμου Κερύνειας
END:VEVENT
BEGIN:VEVENT
DTSTART;VALUE=DATE:20221111
DTEND;VALUE=DATE:20221112
DTSTAMP:20260425T192457
CREATED:20220912T090140Z
LAST-MODIFIED:20220912T090140Z
UID:7997-1668124800-1668211199@kyreniamunicipality.com
SUMMARY:Εσπερινός Αρχάγγελου Μιχαήλ (7/11/22)
DESCRIPTION:
URL:https://kyreniamunicipality.com/event/esperinos-archangelou-michail-7-11-22/
CATEGORIES:Εκδηλώσεις Δήμου Κερύνειας
END:VEVENT
BEGIN:VEVENT
DTSTART;TZID=Europe/Athens:20221110T190000
DTEND;TZID=Europe/Athens:20221110T190000
DTSTAMP:20260425T192457
CREATED:20221012T115340Z
LAST-MODIFIED:20221012T115340Z
UID:8082-1668106800-1668106800@kyreniamunicipality.com
SUMMARY:Παρουσίαση των βιβλίων της αείμνηστης Κερυνειώτισας Ρήνας Κατσελλή
DESCRIPTION:Παρουσίαση των βιβλίων της αείμνηστης Κερυνειώτισας Ρήνας Κατσελλή «ΟΙ ΕΓΚΛΩΒΙΣΜΕΝΟΙ ΤΟΥ ΞΕΝΟΔΟΧΕΙΟΥ ΝΤΟΟΥΜ» από τον καθηγητή Πέτρο Παπαπολυβίου « ΠΕΛΑΠΑΙΣ Πρώτος Χρόνος λειτουργίας του εγκλωβισμένου σχολείου\, 1974-75» από την Καίτη Φράγκου Αναστασιάδου \nΘα εκτίθεται και πλούσιο φωτογραφικό υλικό. \nΔιοργανωτής: Λαογραφικός Όμιλος Κερύνειας \nΧώρος:  Πολιτιστικό Κέντρο Στροβόλου ( παλαιό Δημαρχείο)\, οδός Αρχιεπισκόπου Κυπριανού 34\, \nΏρα: 7:00 μ.μ.
URL:https://kyreniamunicipality.com/event/parousiasi-ton-vivlion-tis-aeimnistis-keryneiotisas-rinas-katselli/
CATEGORIES:Εκδηλώσεις Δήμου Κερύνειας
END:VEVENT
BEGIN:VEVENT
DTSTART;TZID=Europe/Athens:20221109T190000
DTEND;TZID=Europe/Athens:20221109T190000
DTSTAMP:20260425T192457
CREATED:20221012T115151Z
LAST-MODIFIED:20221012T115151Z
UID:8080-1668020400-1668020400@kyreniamunicipality.com
SUMMARY:Παρουσίαση Βιβλίου του Κ. Χατζηστεφάνου\, «Αρχαίου Ελληνικού Λόγου ανάλεκτα».
DESCRIPTION:Διοργανωτές: Δήμος Καραβά και η Διεύθυνση Μέσης\, Γενικής Εκπαίδευσης των Ελληνικών Πολιτιστικών Ομίλων Κύπρου.\nΧώρος: Πολιτιστικό Ίδρυμα Καραβιωτών\nΏρα: 7 μ.μ.
URL:https://kyreniamunicipality.com/event/parousiasi-vivliou-tou-k-chatzistefanou-archaiou-ellinikou-logou-analekta/
CATEGORIES:Εκδηλώσεις Δήμου Κερύνειας
END:VEVENT
BEGIN:VEVENT
DTSTART;TZID=Europe/Athens:20221108T190000
DTEND;TZID=Europe/Athens:20221108T190000
DTSTAMP:20260425T192457
CREATED:20221012T114901Z
LAST-MODIFIED:20230315T073152Z
UID:8078-1667934000-1667934000@kyreniamunicipality.com
SUMMARY:Προβολές Δήμου Κερύνειας
DESCRIPTION:Προβολές Δήμου Κερύνειας: \n\nΤαινία με θέμα: «Κερύνεια. Ευρωπαϊκή πόλη υπό κατοχή»\nΟμιλία με ταυτόχρονη προβολή διαφανειών  με θέμα «Ιστορία Κερύνειας».\n\nΟ πόνος για την χαμένη γη\, η αντοχή\, αποφασιστικότητα και αγωνιστικότητα για επιστροφή μέσα από τα ποιήματα Κερυνειωτών Ποιητών. \nΔιοργανωτές: Δήμος Κερύνειας και Όμιλος Γυναικών Επαρχίας Κερύνειας\nΧώρος: Αίθουσα Αδούλωτης Κερύνειας\nΏρα: 7: μ.μ.
URL:https://kyreniamunicipality.com/event/provoles-dimou-keryneias/
CATEGORIES:Εκδηλώσεις Δήμου Κερύνειας
END:VEVENT
BEGIN:VEVENT
DTSTART;VALUE=DATE:20221108
DTEND;VALUE=DATE:20221119
DTSTAMP:20260425T192457
CREATED:20221103T110035Z
LAST-MODIFIED:20221122T085127Z
UID:8211-1667865600-1668815999@kyreniamunicipality.com
SUMMARY:ΜΕΡΕΣ ΕΠΑΡΧΙΑΣ ΚΕΡΥΝΕΙΑΣ
DESCRIPTION:Οι Δήμοι\, οι Κοινότητες και τα Οργανωμένα Σύνολα της Επαρχίας Κερύνειας\, σας προσκαλούν στις Πανεπαρχιακές Εκδηλώσεις Κερύνειας για καταδίκη της ανακήρυξης του ψευδοκράτους που πραγματοποιούνται από τις 8-18 Νοεμβρίου 2022. \n Αποκορύφωμα των εκδηλώσεων η Πανεπαρχιακή Αντικατοχική Πορεία τη Δευτέρα 14 Νοεμβρίου στις 6:30 μ.μ.  \n Σας θέλουμε όλους εκεί!
URL:https://kyreniamunicipality.com/event/meres-eparchias-keryneias/
CATEGORIES:Εκδηλώσεις Δήμου Κερύνειας
END:VEVENT
END:VCALENDAR