BEGIN:VCALENDAR
VERSION:2.0
PRODID:-//Kerynia Municipality - ECPv6.15.20//NONSGML v1.0//EN
CALSCALE:GREGORIAN
METHOD:PUBLISH
X-WR-CALNAME:Kerynia Municipality
X-ORIGINAL-URL:https://kyreniamunicipality.com
X-WR-CALDESC:Events for Kerynia Municipality
REFRESH-INTERVAL;VALUE=DURATION:PT1H
X-Robots-Tag:noindex
X-PUBLISHED-TTL:PT1H
BEGIN:VTIMEZONE
TZID:Europe/Athens
BEGIN:DAYLIGHT
TZOFFSETFROM:+0200
TZOFFSETTO:+0300
TZNAME:EEST
DTSTART:20170326T010000
END:DAYLIGHT
BEGIN:STANDARD
TZOFFSETFROM:+0300
TZOFFSETTO:+0200
TZNAME:EET
DTSTART:20171029T010000
END:STANDARD
BEGIN:DAYLIGHT
TZOFFSETFROM:+0200
TZOFFSETTO:+0300
TZNAME:EEST
DTSTART:20180325T010000
END:DAYLIGHT
BEGIN:STANDARD
TZOFFSETFROM:+0300
TZOFFSETTO:+0200
TZNAME:EET
DTSTART:20181028T010000
END:STANDARD
BEGIN:DAYLIGHT
TZOFFSETFROM:+0200
TZOFFSETTO:+0300
TZNAME:EEST
DTSTART:20190331T010000
END:DAYLIGHT
BEGIN:STANDARD
TZOFFSETFROM:+0300
TZOFFSETTO:+0200
TZNAME:EET
DTSTART:20191027T010000
END:STANDARD
END:VTIMEZONE
BEGIN:VEVENT
DTSTART;TZID=Europe/Athens:20180502T183000
DTEND;TZID=Europe/Athens:20180502T193000
DTSTAMP:20260426T064116
CREATED:20181010T115442Z
LAST-MODIFIED:20181024T120958Z
UID:4554-1525285800-1525289400@kyreniamunicipality.com
SUMMARY:ΦΩΤΟΓΡΑΦΙΚΟΣ ΟΜΙΛΟΣ
DESCRIPTION:
URL:https://kyreniamunicipality.com/event/fotografikos-omilos-4/
END:VEVENT
BEGIN:VEVENT
DTSTART;VALUE=DATE:20180429
DTEND;VALUE=DATE:20180430
DTSTAMP:20260426T064116
CREATED:20180426T111602Z
LAST-MODIFIED:20180426T111630Z
UID:2907-1524960000-1525046399@kyreniamunicipality.com
SUMMARY:Είσαι Κερυνειώτης ή Κερυνειώτισσα;
DESCRIPTION:Φίλε Κερυνειώτη\, η πόλη σου σε χρειάζεται. \nΈλα να γνωριστούμε και να ενισχύσουμε το δίκτυο των νέων Κερυνειωτών. \nΑν είσαι νέος 14 έως 35 ετών με καταγωγή την πόλη ή την επαρχία Κερύνειας ή αν είσαι φίλος της Κερύνειας\, μπορείς κι εσύ να γίνεις εθελοντής στη προσπάθεια μας. \nΓενική – Εκλογική Συνέλευση Δημοτικού Συμβουλίου Νεολαίας του Δήμου Κερύνειας την Κυριακή 29 Απριλίου 2018 και ώρα 10.30πμ στο προσωρινό Δημαρχείο Κερύνειας στην Λεωφ. Μάρκου Δράκου 8 (100 μέτρα πριν το οδόφραγμα του ΛΗΔΡΑ ΠΑΛΑΣ στη Λευκωσία). \nΗ Γνώμη σου μετρά! Η Κερύνεια σε καλεί! Να είσαι εκεί. \nΠληροφορίες: 22818040
URL:https://kyreniamunicipality.com/event/eisai-keryneiotis-i-keryneiotissa/
END:VEVENT
BEGIN:VEVENT
DTSTART;VALUE=DATE:20180425
DTEND;VALUE=DATE:20180426
DTSTAMP:20260426T064116
CREATED:20181010T123159Z
LAST-MODIFIED:20181019T085433Z
UID:4602-1524614400-1524700799@kyreniamunicipality.com
SUMMARY:Συνεδρίαση Δημοτικού Συμβουλίου Νεολαίας  Δήμου Κερύνειας
DESCRIPTION:
URL:https://kyreniamunicipality.com/event/synedriasi-dimotikou-symvouliou-neolaias-dimou-keryneias-4/
END:VEVENT
BEGIN:VEVENT
DTSTART;VALUE=DATE:20180424
DTEND;VALUE=DATE:20180425
DTSTAMP:20260426T064116
CREATED:20180423T054407Z
LAST-MODIFIED:20181024T121003Z
UID:2874-1524528000-1524614399@kyreniamunicipality.com
SUMMARY:ΓΕΝΙΚΗ ΕΚΛΟΓΙΚΗ ΣΥΝΕΛΕΥΣΗ ΤΟΥ ΔΗΜΟΤΙΚΟΥ ΣΥΜΒΟΥΛΙΟΥ ΝΕΟΛΑΙΑΣ ΤΟΥ ΔΗΜΟΥ ΚΕΡΥΝΕΙΑΣ ΣΤΙΣ 10:30 Π.Μ ΣΤΟ ΠΡΟΣΩΡΙΝΟ ΔΗΜΑΡΧΕΙΟ ΚΕΡΥΝΕΙΑΣ
DESCRIPTION:Περισσότερες πληροφορίες θα ανακοινωθούν σύντομα.
URL:https://kyreniamunicipality.com/event/geniki-eklogiki-synelefsi-tou-dimotikou-symvouliou-neolaias-tou-dimou-keryneias-stis-1030-p-m-sto-prosorino-dimarcheio-keryneias/
END:VEVENT
BEGIN:VEVENT
DTSTART;VALUE=DATE:20180421
DTEND;VALUE=DATE:20180422
DTSTAMP:20260426T064116
CREATED:20180712T065249Z
LAST-MODIFIED:20180712T065349Z
UID:3122-1524268800-1524355199@kyreniamunicipality.com
SUMMARY:ΠΑΝΔΗΜΟΤΙΚΗ ΣΥΝΑΝΤΗΣΗ ΚΕΡΥΝΕΙΩΤΩΝ ΣΤΗΝ ΠΑΦΟ
DESCRIPTION:
URL:https://kyreniamunicipality.com/event/pandimotiki-synantisi-keryneioton-stin-pafo/
CATEGORIES:Εκδηλώσεις Δήμου Κερύνειας
END:VEVENT
BEGIN:VEVENT
DTSTART;TZID=Europe/Athens:20180418T183000
DTEND;TZID=Europe/Athens:20180418T193000
DTSTAMP:20260426T064116
CREATED:20181010T115332Z
LAST-MODIFIED:20181024T121103Z
UID:4550-1524076200-1524079800@kyreniamunicipality.com
SUMMARY:ΦΩΤΟΓΡΑΦΙΚΟΣ ΟΜΙΛΟΣ
DESCRIPTION:
URL:https://kyreniamunicipality.com/event/fotografikos-omilos-3/
END:VEVENT
BEGIN:VEVENT
DTSTART;VALUE=DATE:20180415
DTEND;VALUE=DATE:20180416
DTSTAMP:20260426T064116
CREATED:20180111T083427Z
LAST-MODIFIED:20180411T063455Z
UID:2641-1523750400-1523836799@kyreniamunicipality.com
SUMMARY:ΣΥΝΕΣΤΙΑΣΗ ΠΑΣΧΑ
DESCRIPTION:
URL:https://kyreniamunicipality.com/event/synestiasi-pascha/
CATEGORIES:Εκδηλώσεις Δήμου Κερύνειας
END:VEVENT
BEGIN:VEVENT
DTSTART;VALUE=DATE:20180412
DTEND;VALUE=DATE:20180413
DTSTAMP:20260426T064116
CREATED:20170922T124043Z
LAST-MODIFIED:20170922T124043Z
UID:2053-1523491200-1523577599@kyreniamunicipality.com
SUMMARY:Ελεύθερο Πανεπιστήμιο Κατεχομένων Δήμων Επαρχίας Κερύνειας «Η πολιτική ιστορία της Κύπρου την αρχαϊκή περίοδο»
DESCRIPTION:Εισηγητής: Χριστίνα Ιωάννου\, Ειδική Επιστήμονας\, Τμήμα Ιστορίας και Αρχαιολογίας\, Πανεπιστήμιο Κύπρου \n  \n  \n  \n  \n  \n  \n  \n  \n  \n  \n 
URL:https://kyreniamunicipality.com/event/elefthero-panepistimio-katechomenon-dimon-eparchias-keryneias-i-politiki-istoria-tis-kyprou-tin-archaiki-periodo/
CATEGORIES:Εκδηλώσεις Δήμου Κερύνειας
END:VEVENT
BEGIN:VEVENT
DTSTART;TZID=Europe/Athens:20180404T183000
DTEND;TZID=Europe/Athens:20180404T193000
DTSTAMP:20260426T064116
CREATED:20181010T115317Z
LAST-MODIFIED:20181024T120142Z
UID:4551-1522866600-1522870200@kyreniamunicipality.com
SUMMARY:ΦΩΤΟΓΡΑΦΙΚΟΣ ΟΜΙΛΟΣ
DESCRIPTION:
URL:https://kyreniamunicipality.com/event/fotografikos-omilos-2/
END:VEVENT
BEGIN:VEVENT
DTSTART;VALUE=DATE:20180403
DTEND;VALUE=DATE:20180404
DTSTAMP:20260426T064116
CREATED:20180111T082751Z
LAST-MODIFIED:20181019T085430Z
UID:2621-1522713600-1522799999@kyreniamunicipality.com
SUMMARY:ΣΥΝΕΔΡΙΑ ΔΗΜΟΤΙΚΟΥ ΣΥΜΒΟΥΛΙΟΥ
DESCRIPTION:ΩΡΑ: 6:30μμ \nΠερισσότερες πληροφορίες θα ανακοινωθούν σύντομα.
URL:https://kyreniamunicipality.com/event/synedria-dimotikou-symvouliou-4/
END:VEVENT
BEGIN:VEVENT
DTSTART;VALUE=DATE:20180328
DTEND;VALUE=DATE:20180329
DTSTAMP:20260426T064116
CREATED:20181010T123112Z
LAST-MODIFIED:20181019T085426Z
UID:4601-1522195200-1522281599@kyreniamunicipality.com
SUMMARY:Συνεδρίαση Δημοτικού Συμβουλίου Νεολαίας  Δήμου Κερύνειας
DESCRIPTION:
URL:https://kyreniamunicipality.com/event/synedriasi-dimotikou-symvouliou-neolaias-dimou-keryneias-3/
END:VEVENT
BEGIN:VEVENT
DTSTART;VALUE=DATE:20180322
DTEND;VALUE=DATE:20180323
DTSTAMP:20260426T064116
CREATED:20180315T135149Z
LAST-MODIFIED:20190530T071920Z
UID:2792-1521676800-1521763199@kyreniamunicipality.com
SUMMARY:«Πενταδάκτυλος- Τόσο κοντά… μα τόσο μακριά»
DESCRIPTION:Προσκαλείτε στην προβολή  του ντοκιμαντέρ «Πενταδάκτυλος»\, που συνδιοργανώνεται από τα Δημοτικά Συμβούλια Νεολαίας  Κερύνειας\, Καραβά και Λαπήθου την Πέμπτη 22 Μαρτίου\, 2018. Επισυνάπτεται πρόσκληση με λεπτομέρειες και ώρες προβολής. \n \n“Πενταδάκτυλος. Τόσο κοντά… μα τόσο μακριά” \nΤα Δημοτικά Συμβούλια Νεολαίας Κερύνειας\, Λαπήθου και Καραβά\, διοργάνωσαν την προβολή της ταινίας «Πενταδάκτυλος. Τόσο κοντά… μα τόσο μακριά»\, την Πέμπτη 22 Μαρτίου 2018 στο Πολιτιστικό Ίδρυμα Καραβιωτών στον Στρόβολο. \nΜέσα σε κατάμεστη αίθουσα\, Κερυνειώτες και φίλοι της Κερύνειας συγκεντρώθηκαν για να απολαύσουν μια περιδιάβαση στην βουνοπλαγιά της οροσειράς του Πενταδακτύλου που για 44 χρόνια\, «βλέπουμε από την ανάποδη»\, όπως συνηθίζει να λέει χαρακτηριστικά η αγαπημένη κ. Ρήνα Κατσελλή. \nΗ ταινία\, «Πενταδάκτυλος. Τόσο κοντά… μα τόσο μακριά»\,  με τη βοήθεια επιστημονικών συμβούλων\, επιχειρεί ένα ταξίδι γνωριμίας της μοναδικής γεωλογικής του εξέλιξης\, της πλούσιας χλωρίδας του και το αξεπέραστο σε ομορφιά φυσικό του περιβάλλον στον Πενταδάκτυλο που βρίσκεται τόσο κοντά\, αλλά λόγω της τουρκικής εισβολής του 1974 καταλήγει να βρίσκεται τόσο μακριά στερώντας ταυτόχρονα και την ελεύθερη επίσκεψη και απόλαυσή του. \nΕπιχειρείται ένα ταξίδι γνωριμίας με τα αγαθά που αφειδώλευτα προσέφερε η οροσειρά στους κατοίκους του όπως τον ορυκτό της πλούτο\, το δομικό λίθο\, το νερό\, αλλά και μια γνωριμία με ανθρώπους που έζησαν με αυτά και εκδιώχθηκαν με τη βία από τα σπίτια τους και ζουν στην προσφυγιά με τον πόθο και την ελπίδα για επανένωση της Κύπρου. \nΣκηνοθεσία-Πασχάλης Παπαπέτρου\, Διεύθυνση φωτογραφίας: Νίκος Αβρααμίδης\, Σενάριο: Δρ Γιώργος Κωνσταντίνου\, † Γιαννάκης Παναγίδης\, Πασχάλης Παπαπέτρου.
URL:https://kyreniamunicipality.com/event/pentadaktylos-toso-konta-ma-toso-makria/
CATEGORIES:Εκδηλώσεις Δ.Σ. Νεολαίας
END:VEVENT
BEGIN:VEVENT
DTSTART;TZID=Europe/Athens:20180315T163000
DTEND;TZID=Europe/Athens:20180315T193000
DTSTAMP:20260426T064116
CREATED:20181010T115147Z
LAST-MODIFIED:20181019T085410Z
UID:4545-1521131400-1521142200@kyreniamunicipality.com
SUMMARY:ΣΥΝΕΔΡΙΑ ΦΩΤΟΓΡΑΦΙΚΟΥ ΟΜΙΛΟΥ
DESCRIPTION:
URL:https://kyreniamunicipality.com/event/synedria-fotografikou-omilou-5/
END:VEVENT
BEGIN:VEVENT
DTSTART;TZID=Europe/Athens:20180314T183000
DTEND;TZID=Europe/Athens:20180314T193000
DTSTAMP:20260426T064116
CREATED:20181010T115122Z
LAST-MODIFIED:20181019T085406Z
UID:4544-1521052200-1521055800@kyreniamunicipality.com
SUMMARY:ΣΥΝΕΔΡΙΑ ΦΩΤΟΓΡΑΦΙΚΟΥ ΟΜΙΛΟΥ
DESCRIPTION:
URL:https://kyreniamunicipality.com/event/synedria-fotografikou-omilou-4/
END:VEVENT
BEGIN:VEVENT
DTSTART;TZID=Europe/Athens:20180309T183000
DTEND;TZID=Europe/Athens:20180309T193000
DTSTAMP:20260426T064116
CREATED:20181010T115054Z
LAST-MODIFIED:20181019T085405Z
UID:4543-1520620200-1520623800@kyreniamunicipality.com
SUMMARY:ΣΥΝΕΔΡΙΑ ΣΧΟΛΙΚΗΣ ΕΦΟΡΕΙΑΣ
DESCRIPTION:
URL:https://kyreniamunicipality.com/event/synedria-scholikis-eforeias/
END:VEVENT
BEGIN:VEVENT
DTSTART;VALUE=DATE:20180306
DTEND;VALUE=DATE:20180307
DTSTAMP:20260426T064116
CREATED:20180111T082712Z
LAST-MODIFIED:20181019T085401Z
UID:2619-1520294400-1520380799@kyreniamunicipality.com
SUMMARY:ΣΥΝΕΔΡΙΑ ΔΗΜΟΤΙΚΟΥ ΣΥΜΒΟΥΛΙΟΥ
DESCRIPTION:ΩΡΑ: 6:30μμ \nΠερισσότερες πληροφορίες θα ανακοινωθούν σύντομα.
URL:https://kyreniamunicipality.com/event/synedria-dimotikou-symvouliou-3/
END:VEVENT
BEGIN:VEVENT
DTSTART;VALUE=DATE:20180303
DTEND;VALUE=DATE:20180304
DTSTAMP:20260426T064116
CREATED:20180220T120732Z
LAST-MODIFIED:20180220T121011Z
UID:2734-1520035200-1520121599@kyreniamunicipality.com
SUMMARY:Πανδημοτική Συνάντηση Κερυνειωτών στη Λάρνακα
DESCRIPTION:
URL:https://kyreniamunicipality.com/event/pandimotiki-synantisi-keryneioton-sti-larnaka/
CATEGORIES:Εκδηλώσεις Δήμου Κερύνειας
END:VEVENT
BEGIN:VEVENT
DTSTART;TZID=Europe/Athens:20180301T150000
DTEND;TZID=Europe/Athens:20180301T180000
DTSTAMP:20260426T064116
CREATED:20181010T115022Z
LAST-MODIFIED:20181024T120217Z
UID:4542-1519916400-1519927200@kyreniamunicipality.com
SUMMARY:ΔΙΕΞΑΓΩΓΗ ΔΗΜΟΠΡΑΣΙΑΣ ΝΟΜΙΣΜΑΤΩΝ
DESCRIPTION:
URL:https://kyreniamunicipality.com/event/dieksagogi-dimoprasias-nomismaton/
END:VEVENT
BEGIN:VEVENT
DTSTART;VALUE=DATE:20180301
DTEND;VALUE=DATE:20180302
DTSTAMP:20260426T064116
CREATED:20170922T123951Z
LAST-MODIFIED:20180220T102411Z
UID:2051-1519862400-1519948799@kyreniamunicipality.com
SUMMARY:Ελεύθερο Πανεπιστήμιο Κατεχομένων Δήμων Επαρχίας Κερύνειας «Η ποίηση των αρχαίων Ελλήνων – Επική & Λυρική»
DESCRIPTION:Εισηγήτριες: Μαργαρίτα Αλεξάνδρου – Ειρήνη Κυριάκου\, Τμήμα Κλασσικών Σπουδών και Φιλοσοφίας\, Πανεπιστήμιο Κύπρου \n \n  \n  \n  \n  \n  \n  \n  \n  \n  \n  \n 
URL:https://kyreniamunicipality.com/event/elefthero-panepistimio-katechomenon-dimon-eparchias-keryneias-i-poiisi-ton-archaion-ellinon-epiki-lyriki/
CATEGORIES:Εκδηλώσεις Δήμου Κερύνειας
END:VEVENT
BEGIN:VEVENT
DTSTART;TZID=Europe/Athens:20180228T183000
DTEND;TZID=Europe/Athens:20180228T193000
DTSTAMP:20260426T064116
CREATED:20181010T114756Z
LAST-MODIFIED:20181019T085359Z
UID:4539-1519842600-1519846200@kyreniamunicipality.com
SUMMARY: ΣΥΝΕΔΡΙΑ ΦΩΤΟΓΡΑΦΙΚΟΥ ΟΜΙΛΟΥ
DESCRIPTION:
URL:https://kyreniamunicipality.com/event/synedria-fotografikou-omilou-3/
END:VEVENT
BEGIN:VEVENT
DTSTART;VALUE=DATE:20180227
DTEND;VALUE=DATE:20180228
DTSTAMP:20260426T064116
CREATED:20180111T083352Z
LAST-MODIFIED:20180228T144937Z
UID:2639-1519689600-1519775999@kyreniamunicipality.com
SUMMARY:ΗΜΕΡΑ ΓΡΑΜΜΑΤΩΝ
DESCRIPTION:Μέσα στα πλαίσια της Γιορτής των Γραμμάτων\nπου διοργανώνουν το Δημαρχείο και η Σχολική Εφορεία Κερύνειας\nθα παρουσιαστεί από τον Λαογραφικό Όμιλο Κερύνειας\nη επανέκδοση και η μετάφραση στα αγγλικά\nτου βιβλίου της Ρήνας Κατσελλή\nΟ Κερυνειώτης Κώστας Κατσελλής-Ο άνθρωπος και ο τόπος. \nΗ εκδήλωση θα γίνει την\nΤρίτη 27 Φεβρουαρίου 2018 στις 7μμ.\nστην Δημοσιογραφική Εστία\, Λεωφ. ΡΙΚ\, Λευκωσία. \nΤο βιβλίο θα παρουσιάσει η Δρ. Μυρτώ Αζίνα Χρονίδη\nκαι η συγγραφέας θα διαβάσει αποσπάσματα από το βιβλίο. \nΠ.Α. μέχρι την Παρασκευή 23 Φεβρουαρίου\, ΜΟΝΟ σε περίπτωση που θα παρευρεθείτε \n \n\nΟ Δήμος Κερύνειας\nκαι η Σχολική Εφορεία Κερύνειας\nσας προσκαλούν στην εκδήλωση για την «Ημέρα των Γραμμάτων»\,\nπου φέτος αφιερώνεται\nστην παρουσίαση του βιβλίου Ο Κερυνειώτης Κώστας Κατσελλής – Ο άνθρωπος και ο τόπος\nτης Ρήνας Κατσελλή\, έκδοση Λαογραφικού Ομίλου Κερύνειας\nΤρίτη\, 27 Φεβρουαρίου 2018 και ώρα: 7.00 μ.μ.\nστη Δημοσιογραφική Εστία (Λεωφ. ΡΙΚ αρ.12)\, Αγλαντζιά
URL:http://kyreniamunicipality.com/ekdilosi-dimou-keryneias-gia-tin-imera-ton-grammaton/
CATEGORIES:Εκδηλώσεις Δήμου Κερύνειας
END:VEVENT
BEGIN:VEVENT
DTSTART;TZID=Europe/Athens:20180214T183000
DTEND;TZID=Europe/Athens:20180214T193000
DTSTAMP:20260426T064116
CREATED:20181010T114729Z
LAST-MODIFIED:20181019T085355Z
UID:4536-1518633000-1518636600@kyreniamunicipality.com
SUMMARY: ΣΥΝΕΔΡΙΑ ΦΩΤΟΓΡΑΦΙΚΟΥ ΟΜΙΛΟΥ
DESCRIPTION:
URL:https://kyreniamunicipality.com/event/synedria-fotografikou-omilou-2/
END:VEVENT
BEGIN:VEVENT
DTSTART;TZID=Europe/Athens:20180213T160000
DTEND;TZID=Europe/Athens:20180213T173000
DTSTAMP:20260426T064116
CREATED:20181010T114657Z
LAST-MODIFIED:20181019T085352Z
UID:4537-1518537600-1518543000@kyreniamunicipality.com
SUMMARY:ΣΥΝΕΔΡΙΑ ΛΑΟΓΡΑΦΙΚΟΣ ΟΜΙΛΟΣ ΚΕΡΥΝΕΙΑΣ
DESCRIPTION:
URL:https://kyreniamunicipality.com/event/synedria-laografikos-omilos-keryneias/
END:VEVENT
BEGIN:VEVENT
DTSTART;TZID=Europe/Athens:20180209T180000
DTEND;TZID=Europe/Athens:20180209T193000
DTSTAMP:20260426T064116
CREATED:20181010T114600Z
LAST-MODIFIED:20181019T085300Z
UID:4534-1518199200-1518204600@kyreniamunicipality.com
SUMMARY:ΣΥΝΕΔΡΙΑΣΗ ΣΧΟΛΙΚΗΣ ΕΦΟΡΕΙΑΣ
DESCRIPTION:
URL:https://kyreniamunicipality.com/event/synedriasi-scholikis-eforeias/
END:VEVENT
BEGIN:VEVENT
DTSTART;VALUE=DATE:20180206
DTEND;VALUE=DATE:20180207
DTSTAMP:20260426T064116
CREATED:20180111T082644Z
LAST-MODIFIED:20181019T085257Z
UID:2617-1517875200-1517961599@kyreniamunicipality.com
SUMMARY:ΣΥΝΕΔΡΙΑ ΔΗΜΟΤΙΚΟΥ ΣΥΜΒΟΥΛΙΟΥ
DESCRIPTION:ΩΡΑ: 6:30μμ \nΠερισσότερες πληροφορίες θα ανακοινωθούν σύντομα.
URL:https://kyreniamunicipality.com/event/synedria-dimotikou-symvouliou-2/
END:VEVENT
BEGIN:VEVENT
DTSTART;VALUE=DATE:20180202
DTEND;VALUE=DATE:20180203
DTSTAMP:20260426T064116
CREATED:20181010T123053Z
LAST-MODIFIED:20181019T085232Z
UID:4600-1517529600-1517615999@kyreniamunicipality.com
SUMMARY:Συνεδρίαση Δημοτικού Συμβουλίου Νεολαίας  Δήμου Κερύνειας
DESCRIPTION:
URL:https://kyreniamunicipality.com/event/synedriasi-dimotikou-symvouliou-neolaias-dimou-keryneias-2/
END:VEVENT
BEGIN:VEVENT
DTSTART;VALUE=DATE:20180201
DTEND;VALUE=DATE:20180202
DTSTAMP:20260426T064116
CREATED:20170922T123850Z
LAST-MODIFIED:20180131T130310Z
UID:2049-1517443200-1517529599@kyreniamunicipality.com
SUMMARY:Ελεύθερο Πανεπιστήμιο Κατεχομένων Δήμων Επαρχίας Κερύνειας «Γεροντική Άνοια: Πρόληψη\, διαχείριση και παρέμβαση»
DESCRIPTION:ΠΡΟΣΚΛΗΣΗ – ΕΛΕΥΘΕΡΟ ΠΑΝΕΠΙΣΤΗΜΙΟ ΚΑΤΕΧΟΜΕΝΩΝ ΔΗΜΩΝ ΕΠΑΡΧΙΑΣ ΚΕΡΥΝΕΙΑΣ «Γεροντική Άνοια: Πρόληψη\, διαχείριση και παρέμβαση» \nΣΕΙΡΑ ΔΙΑΛΕΞΕΩΝ 2017-2018 \nΠέμπτη\, 1η Φεβρουαρίου 2018\, 7:00 μ.μ. \nEΛΕΥΘΕΡΟ ΠΑΝΕΠΙΣΤΗΜΙΟ ΚΑΤΕΧΟΜΕΝΩΝ ΔΗΜΩΝ ΕΠΑΡΧΙΑΣ ΚΕΡΥΝΕΙΑΣ \nΠροσκαλείστε στην 4η διάλεξη του 6ου χρόνου του Ελεύθερου Πανεπιστημίου Κατεχόμενων Δήμων Επαρχίας Κερύνειας με θέμα: \n«Γεροντική Άνοια: Πρόληψη\, διαχείριση και παρέμβαση» \nΕισηγήτρια: Καθηγήτρια Φώφη Κωνσταντινίδου\, Τμήμα Ψυχολογίας\, Πανεπιστήμιο Κύπρου\nΣυντονιστής: Νεοπτόλεμος Κότσαπας\, Δήμαρχος Λαπήθου \nΟίκημα Πολιτιστικού Ιδρύματος Καραβιωτών\, Οδός Μιλήτου 2\, Στρόβολος \n \n  \n  \n  \n  \n  \n  \n  \n  \n  \n  \n 
URL:https://kyreniamunicipality.com/event/elefthero-panepistimio-katechomenon-dimon-eparchias-keryneias-gerontiki-anoia-prolipsi-diacheirisi-kai-paremvasi/
CATEGORIES:Εκδηλώσεις Δήμου Κερύνειας
END:VEVENT
BEGIN:VEVENT
DTSTART;TZID=Europe/Athens:20180131T183000
DTEND;TZID=Europe/Athens:20180131T193000
DTSTAMP:20260426T064116
CREATED:20181010T114436Z
LAST-MODIFIED:20181024T120212Z
UID:4532-1517423400-1517427000@kyreniamunicipality.com
SUMMARY:ΦΩΤΟΓΡΑΦΙΚΟΣ ΟΜΙΛΟΣ
DESCRIPTION:
URL:https://kyreniamunicipality.com/event/fotografikos-omilos/
END:VEVENT
BEGIN:VEVENT
DTSTART;VALUE=DATE:20180131
DTEND;VALUE=DATE:20180201
DTSTAMP:20260426T064116
CREATED:20181010T123017Z
LAST-MODIFIED:20181019T085303Z
UID:4598-1517356800-1517443199@kyreniamunicipality.com
SUMMARY:Συνεδρίαση Δημοτικού Συμβουλίου Νεολαίας  Δήμου Κερύνειας
DESCRIPTION:
URL:https://kyreniamunicipality.com/event/synedriasi-dimotikou-symvouliou-neolaias-dimou-keryneias/
END:VEVENT
BEGIN:VEVENT
DTSTART;TZID=Europe/Athens:20180124T190000
DTEND;TZID=Europe/Athens:20180124T200000
DTSTAMP:20260426T064116
CREATED:20181010T114204Z
LAST-MODIFIED:20181019T085321Z
UID:4529-1516820400-1516824000@kyreniamunicipality.com
SUMMARY:ΣΥΝΕΔΡΙΑ ΠΟΛΙΤΙΣΤΙΚΟΥ ΙΔΡΥΜΑΤΟΣ ΧΡΥΣΟΚΑΒΑ
DESCRIPTION:
URL:https://kyreniamunicipality.com/event/synedria-politistikou-idrymatos-chrysokav/
END:VEVENT
END:VCALENDAR