BEGIN:VCALENDAR
VERSION:2.0
PRODID:-//Kerynia Municipality - ECPv6.15.20//NONSGML v1.0//EN
CALSCALE:GREGORIAN
METHOD:PUBLISH
X-WR-CALNAME:Kerynia Municipality
X-ORIGINAL-URL:https://kyreniamunicipality.com
X-WR-CALDESC:Events for Kerynia Municipality
REFRESH-INTERVAL;VALUE=DURATION:PT1H
X-Robots-Tag:noindex
X-PUBLISHED-TTL:PT1H
BEGIN:VTIMEZONE
TZID:Europe/Athens
BEGIN:DAYLIGHT
TZOFFSETFROM:+0200
TZOFFSETTO:+0300
TZNAME:EEST
DTSTART:20250330T010000
END:DAYLIGHT
BEGIN:STANDARD
TZOFFSETFROM:+0300
TZOFFSETTO:+0200
TZNAME:EET
DTSTART:20251026T010000
END:STANDARD
BEGIN:DAYLIGHT
TZOFFSETFROM:+0200
TZOFFSETTO:+0300
TZNAME:EEST
DTSTART:20260329T010000
END:DAYLIGHT
BEGIN:STANDARD
TZOFFSETFROM:+0300
TZOFFSETTO:+0200
TZNAME:EET
DTSTART:20261025T010000
END:STANDARD
BEGIN:DAYLIGHT
TZOFFSETFROM:+0200
TZOFFSETTO:+0300
TZNAME:EEST
DTSTART:20270328T010000
END:DAYLIGHT
BEGIN:STANDARD
TZOFFSETFROM:+0300
TZOFFSETTO:+0200
TZNAME:EET
DTSTART:20271031T010000
END:STANDARD
END:VTIMEZONE
BEGIN:VEVENT
DTSTART;VALUE=DATE:20260601
DTEND;VALUE=DATE:20260602
DTSTAMP:20260425T135839
CREATED:20260423T105505Z
LAST-MODIFIED:20260423T105530Z
UID:14251-1780272000-1780358399@kyreniamunicipality.com
SUMMARY:Εκδήλωση Κατακλυσμού στο Ζύγι (Δήμος Λαπήθου)
DESCRIPTION:
URL:https://kyreniamunicipality.com/event/ekdilosi-kataklysmou-sto-zygi-dimos-lapithou/
END:VEVENT
BEGIN:VEVENT
DTSTART;VALUE=DATE:20260615
DTEND;VALUE=DATE:20260616
DTSTAMP:20260425T135839
CREATED:20260423T105523Z
LAST-MODIFIED:20260423T105523Z
UID:14252-1781481600-1781567999@kyreniamunicipality.com
SUMMARY:Βραβεύσεις Προσωπικοτήτων Αθλητισμού και Πολιτισμού
DESCRIPTION:
URL:https://kyreniamunicipality.com/event/vravefseis-prosopikotiton-athlitismou-kai-politismou/
END:VEVENT
BEGIN:VEVENT
DTSTART;VALUE=DATE:20260619
DTEND;VALUE=DATE:20260620
DTSTAMP:20260425T135839
CREATED:20260423T105546Z
LAST-MODIFIED:20260423T105546Z
UID:14253-1781827200-1781913599@kyreniamunicipality.com
SUMMARY:Συνεστίαση αποφοίτων Γυμνασίου Κερύνειας
DESCRIPTION:
URL:https://kyreniamunicipality.com/event/synestiasi-apofoiton-gymnasiou-keryneias/
END:VEVENT
BEGIN:VEVENT
DTSTART;VALUE=DATE:20260624
DTEND;VALUE=DATE:20260625
DTSTAMP:20260425T135839
CREATED:20260423T105602Z
LAST-MODIFIED:20260423T105602Z
UID:14254-1782259200-1782345599@kyreniamunicipality.com
SUMMARY:Βραβεύσεις Τελειόφοιτων και Παγκύπριου Μαθητικού Διαγωνισμού 2025–2026
DESCRIPTION:
URL:https://kyreniamunicipality.com/event/vravefseis-teleiofoiton-kai-pagkypriou-mathitikou-diagonismou-2025-2026/
END:VEVENT
BEGIN:VEVENT
DTSTART;VALUE=DATE:20260625
DTEND;VALUE=DATE:20260626
DTSTAMP:20260425T135839
CREATED:20260423T105449Z
LAST-MODIFIED:20260423T105508Z
UID:14259-1782345600-1782431999@kyreniamunicipality.com
SUMMARY:Ανακήρυξη Κυριάκου Χαραλαμπίδη σε Επίτιμο Δημότη
DESCRIPTION:
URL:https://kyreniamunicipality.com/event/anakiryksi-kyriakou-charalampidi-se-epitimo-dimoti/
END:VEVENT
BEGIN:VEVENT
DTSTART;VALUE=DATE:20260721
DTEND;VALUE=DATE:20260722
DTSTAMP:20260425T135839
CREATED:20260423T105625Z
LAST-MODIFIED:20260423T105625Z
UID:14255-1784592000-1784678399@kyreniamunicipality.com
SUMMARY:– Τρισάγιο στο Μνημείο Πεσόντων και Αγνοουμένων
DESCRIPTION:
URL:https://kyreniamunicipality.com/event/trisagio-sto-mnimeio-pesonton-kai-agnooumenon-2/
END:VEVENT
BEGIN:VEVENT
DTSTART;VALUE=DATE:20260722
DTEND;VALUE=DATE:20260723
DTSTAMP:20260425T135839
CREATED:20260423T105641Z
LAST-MODIFIED:20260423T105641Z
UID:14256-1784678400-1784764799@kyreniamunicipality.com
SUMMARY:Αντικατοχικες Εκδηλώσεις Επαρχίας Κερύνειας (Τύμβο)
DESCRIPTION:
URL:https://kyreniamunicipality.com/event/antikatochikes-ekdiloseis-eparchias-keryneias-tymvo/
END:VEVENT
BEGIN:VEVENT
DTSTART;VALUE=DATE:20260907
DTEND;VALUE=DATE:20260908
DTSTAMP:20260425T135839
CREATED:20260423T105705Z
LAST-MODIFIED:20260423T105705Z
UID:14257-1788739200-1788825599@kyreniamunicipality.com
SUMMARY:Εκδρομή στην Ελλάδα
DESCRIPTION:
URL:https://kyreniamunicipality.com/event/ekdromi-stin-ellada/
END:VEVENT
BEGIN:VEVENT
DTSTART;VALUE=DATE:20261101
DTEND;VALUE=DATE:20261102
DTSTAMP:20260425T135839
CREATED:20260423T105726Z
LAST-MODIFIED:20260423T105726Z
UID:14258-1793491200-1793577599@kyreniamunicipality.com
SUMMARY:Αγώνας Δρόμου «Τρέχω για την Κερύνεια»
DESCRIPTION:
URL:https://kyreniamunicipality.com/event/agonas-dromou-trecho-gia-tin-keryneia/
END:VEVENT
END:VCALENDAR