BEGIN:VCALENDAR
VERSION:2.0
PRODID:-//Kerynia Municipality - ECPv6.15.20//NONSGML v1.0//EN
CALSCALE:GREGORIAN
METHOD:PUBLISH
X-WR-CALNAME:Kerynia Municipality
X-ORIGINAL-URL:https://kyreniamunicipality.com
X-WR-CALDESC:Events for Kerynia Municipality
REFRESH-INTERVAL;VALUE=DURATION:PT1H
X-Robots-Tag:noindex
X-PUBLISHED-TTL:PT1H
BEGIN:VTIMEZONE
TZID:Europe/Athens
BEGIN:DAYLIGHT
TZOFFSETFROM:+0200
TZOFFSETTO:+0300
TZNAME:EEST
DTSTART:20170326T010000
END:DAYLIGHT
BEGIN:STANDARD
TZOFFSETFROM:+0300
TZOFFSETTO:+0200
TZNAME:EET
DTSTART:20171029T010000
END:STANDARD
BEGIN:DAYLIGHT
TZOFFSETFROM:+0200
TZOFFSETTO:+0300
TZNAME:EEST
DTSTART:20180325T010000
END:DAYLIGHT
BEGIN:STANDARD
TZOFFSETFROM:+0300
TZOFFSETTO:+0200
TZNAME:EET
DTSTART:20181028T010000
END:STANDARD
BEGIN:DAYLIGHT
TZOFFSETFROM:+0200
TZOFFSETTO:+0300
TZNAME:EEST
DTSTART:20190331T010000
END:DAYLIGHT
BEGIN:STANDARD
TZOFFSETFROM:+0300
TZOFFSETTO:+0200
TZNAME:EET
DTSTART:20191027T010000
END:STANDARD
BEGIN:DAYLIGHT
TZOFFSETFROM:+0200
TZOFFSETTO:+0300
TZNAME:EEST
DTSTART:20200329T010000
END:DAYLIGHT
BEGIN:STANDARD
TZOFFSETFROM:+0300
TZOFFSETTO:+0200
TZNAME:EET
DTSTART:20201025T010000
END:STANDARD
END:VTIMEZONE
BEGIN:VEVENT
DTSTART;VALUE=DATE:20190325
DTEND;VALUE=DATE:20190326
DTSTAMP:20260425T192501
CREATED:20190201T123841Z
LAST-MODIFIED:20190321T064919Z
UID:5053-1553472000-1553558399@kyreniamunicipality.com
SUMMARY:Η Νεολαίας της Κερύνειας συμμετέχει στην παρέλαση
DESCRIPTION:
URL:https://kyreniamunicipality.com/event/parelesi/
CATEGORIES:Εκδηλώσεις Δ.Σ. Νεολαίας
END:VEVENT
BEGIN:VEVENT
DTSTART;VALUE=DATE:20190220
DTEND;VALUE=DATE:20190221
DTSTAMP:20260425T192501
CREATED:20190131T140917Z
LAST-MODIFIED:20190531T131242Z
UID:5615-1550620800-1550707199@kyreniamunicipality.com
SUMMARY:3ο ΑΤΥΠΟ ΥΠΟΥΡΓΙΚΟ ΣΥΜΒΟΥΛΙΟ - 20 Φεβρουαρίου 2019
DESCRIPTION:
URL:http://kyreniamunicipality.com/3o-atypo-ypourgiko-symvoulio-20-fevrouariou-2019/
CATEGORIES:Εκδηλώσεις Δ.Σ. Νεολαίας
END:VEVENT
BEGIN:VEVENT
DTSTART;VALUE=DATE:20190219
DTEND;VALUE=DATE:20190220
DTSTAMP:20260425T192501
CREATED:20190201T123603Z
LAST-MODIFIED:20190528T113358Z
UID:5052-1550534400-1550620799@kyreniamunicipality.com
SUMMARY:Γιορτή των Γραμμάτων – Αφιέρωμα στην Στέλλα Σπύρου
DESCRIPTION:Ο Δήμος Κερύνειας και η Σχολική Εφορεία Κερύνειας\nσας προσκαλούν στην εκδήλωση για την Ημέρα των Γραμμάτων\nπου φέτος αφιερώνεται στη μνήμη της  εκλεκτής Κερυνειώτισσας συγγραφέως\nΣτέλλας Σπύρου \nΣε αυτή θα παρουσιαστούν από τον Λαογραφικό Όμιλο Κερύνειας οι ποιητικές συλλογές της Ελένης Παπαϊωάννου-Καλούδη\nΚερυνειώτικη Αύρα\nκαι του Χριστάκη Μιλτιάδους\nΠοιήματα του Περιπλανώμενου Κερυνειώτη – Σπλίγκα\, Σατιρικά και άλλα \nΤρίτη 19 Φεβρουαρίου 2019 και ώρα 7 μ.μ. στην αίθουσα «Μακεδονία» στο ξενοδοχείο Cleopatra (οδός Φλωρίνης 8\, 1065 Λευκωσία)
URL:http://kyreniamunicipality.com/giorti-ton-grammaton-tou-dimou-keryneias-ksenodocheio-kleopatra-19-fevrouariou-2019/
CATEGORIES:Εκδηλώσεις Δήμου Κερύνειας
END:VEVENT
BEGIN:VEVENT
DTSTART;VALUE=DATE:20190120
DTEND;VALUE=DATE:20190121
DTSTAMP:20260425T192501
CREATED:20190201T123449Z
LAST-MODIFIED:20190321T064950Z
UID:5050-1547942400-1548028799@kyreniamunicipality.com
SUMMARY:Κοπή Βασιλόπιττας Κερυνειωτών
DESCRIPTION:
URL:http://kyreniamunicipality.com/kopi-vasilopitas-201/
CATEGORIES:Εκδηλώσεις Δήμου Κερύνειας
END:VEVENT
BEGIN:VEVENT
DTSTART;VALUE=DATE:20181219
DTEND;VALUE=DATE:20181220
DTSTAMP:20260425T192501
CREATED:20181220T124452Z
LAST-MODIFIED:20181220T125027Z
UID:4986-1545177600-1545263999@kyreniamunicipality.com
SUMMARY:ΧΡΙΣΤΟΥΓΕΝΝΙΑΤΙΚΗ ΕΚΔΗΛΩΣΗ ΚΕΡΥΝΕΙΩΤΩΝ ΣΤΗ ΛΕΜΕΣΟ
DESCRIPTION:
URL:http://kyreniamunicipality.com/christougenniatiki-ekdilosi-keryneioton-sti-lemeso/
CATEGORIES:Εκδηλώσεις Δήμου Κερύνειας
END:VEVENT
BEGIN:VEVENT
DTSTART;VALUE=DATE:20181216
DTEND;VALUE=DATE:20181217
DTSTAMP:20260425T192501
CREATED:20181212T133147Z
LAST-MODIFIED:20190528T094910Z
UID:4978-1544918400-1545004799@kyreniamunicipality.com
SUMMARY:ΦΙΛΑΝΘΡΩΠΙΚΟ ΧΡΙΣΤΟΥΓΕΝΝΙΑΤΙΚΟ BRUNCH &  ΠΑΖΑΡΑΚΙ ΣΤΙΣ 16 ΤΟΥ ΔΕΚΕΜΒΡΗ
DESCRIPTION:Φιλανθρωπικό Χριστουγεννιάτικο Brunch & Παζαράκι στις 16 του Δεκέμβρη στην αυλή του προσωρινού Δημαρχείου Κερύνειας. \nΚοπιάστε να περάσουμε ένα όμορφο κυριακάτικο πρωινό\, να απολαύσουμε ντόπια εδέσματα της Επαρχίας Κερύνειας\, μα πάνω απ’ όλα να προσφέρουμε μια μικρή βοήθεια στους συνανθρώπους μας που έχουν ανάγκη. \nΤιμή εισόδου: €5 / άτομο \n(περιλαμβάνει γεύμα και ρόφημα) \nΠληροφορίες στα τηλέφωνα:97630745 (Κυριάκος Μαυρίδης)\, 99793662 (Κατερίνα Γαλακτικού) \nΣας περιμένουμε από τις 10π.μ. μέχρι τις 2μ.μ.
URL:http://kyreniamunicipality.com/filanthropiko-christougenniatiko-brunch-pazaraki-stis-16-tou-dekemvri/
CATEGORIES:Εκδηλώσεις Δ.Σ. Νεολαίας
END:VEVENT
BEGIN:VEVENT
DTSTART;VALUE=DATE:20181204
DTEND;VALUE=DATE:20181205
DTSTAMP:20260425T192501
CREATED:20181005T123706Z
LAST-MODIFIED:20181019T084959Z
UID:3633-1543881600-1543967999@kyreniamunicipality.com
SUMMARY:ΤΑΚΤΙΚΗ ΣΥΝΕΔΡΙΑΣΗ ΤΟΥ ΔΗΜΟΤΙΚΟΥ ΣΥΜΒΟΥΛΙΟΥ
DESCRIPTION:
URL:https://kyreniamunicipality.com/event/taktiki-synedriasi-tou-dimotikou-symvouliou-3/
END:VEVENT
BEGIN:VEVENT
DTSTART;VALUE=DATE:20181124
DTEND;VALUE=DATE:20181125
DTSTAMP:20260425T192502
CREATED:20180423T060515Z
LAST-MODIFIED:20181126T141251Z
UID:2891-1543017600-1543103999@kyreniamunicipality.com
SUMMARY:ΣΥΜΠΟΣΙΟ ΚΕΡΥΝΕΙΑΣ 2018
DESCRIPTION:O Δήμος Κερύνειας και το Ίδρυμα Αρχιεπισκόπου Μακαρίου Γ΄ σάς προσκαλούν στο 10ο Ετήσιο Συμπόσιο που θα πραγματοποιηθεί το Σάββατο\, 24 Νοεμβρίου 2018 στις 9.00 π.μ. με θέμα: \nΚερύνεια: «δε ζει χωρίς πατρίδες η ανθρώπινη ψυχή» \nΚυρίοι ομιλητές: \nΔρ. Ευστάθιος Ράπτoυ\, Αρχαιολογικός Λειτουργός\, Τμήμα Αρχαιοτήτων Κύπρου. «Κερύνεια: Αρχαιολογικά και ιστορικά στοιχεία μιας πόλης – σύμβολο του ελληνισμού».\nΝίκος Λυγερός\, Στρατηγικός Σύμβουλος. «Η στρατηγική αναδίπλωση του Ελληνισμού».\nΣώτος Βοσκαρίδης\, Επίκουρος Καθηγητής\, Τμήμα Ηλεκτρολόγων Μηχανικών και Μηχανικών Η/Υ και Πληροφορικής\, Τεχνολογικού Πανεπιστημίου Κύπρου και Πρόεδρος του Συνδέσμου Κυπρίων Γελοιογράφων\, “ΓΕΛ.Α.”. «Η ιστορία της Κυπριακής Δημοκρατίας μέσω της πολιτικής Γελοιογραφίας».\nΣπυρίδων Βλαχόπουλος\, Καθηγητής Νομικής Σχολής Εθνικού και Καποδιστριακού Πανεπιστημίου Αθηνών.\n«Το ομοσπονδιακό σύστημα».\nΜητροπολίτης Μεσογαίας και Λαυρεωτικής\, Νικόλαος Xατζηνικολάου. «Δεν ξεχνώ\, οραματίζομαι\, προσεύχομαι\, ελπίζω». \nΣτις 23 Νοεμβρίου\, στις 6.30 μ.μ. το Δημοτικό Συμβούλιο Νεολαίας του Δήμου Κερύνειας σε συνεργασία με την Ιερά Μητρόπολη Κυρηνείας διοργανώνουν  εκδήλωση με θέμα: \n «Μπροστά στις προκλήσεις της σύγχρονης επιστήμης και τεχνολογίας» \n  \nΚυρίοι ομιλητές:\nΠανιερώτατος Μητροπολίτης Κυρηνείας\, κ. Χρυσόστομος\nΜητροπολίτης Μεσογαίας και Λαυρεωτικής\, κ. Νικόλαος \nΚαι οι δυο εκδηλώσεις θα πραγματοποιηθούν στο  Ξενοδοχείο Cleopatra στην Αίθουσα «Μακεδονία» (Οδός Φλωρίνης 8\, 1065 Λευκωσία)\nΠ.A. μόνο σε περίπτωση αποδοχής στο τηλ. 22818040\,  μεταξύ 09.00 π.μ. – 13.30μ.μ.\, το αργότερο μέχρι τις 20 Νοεμβρίου\, 2018. \nΕπισυνάπτεται πρόγραμμα
URL:http://kyreniamunicipality.com/deltio-typou-to-10o-symposio/
CATEGORIES:Εκδηλώσεις Δήμου Κερύνειας
END:VEVENT
BEGIN:VEVENT
DTSTART;VALUE=DATE:20181107
DTEND;VALUE=DATE:20181108
DTSTAMP:20260425T192502
CREATED:20180111T084031Z
LAST-MODIFIED:20181029T095537Z
UID:2660-1541548800-1541635199@kyreniamunicipality.com
SUMMARY:ΕΣΠΕΡΙΝΟΣ ΑΡΧΑΓΓΕΛΟΥ ΜΙΧΑΗΛ
DESCRIPTION:
URL:https://kyreniamunicipality.com/event/esperinos-arch-michail/
CATEGORIES:Εκδηλώσεις Δήμου Κερύνειας
END:VEVENT
BEGIN:VEVENT
DTSTART;VALUE=DATE:20181106
DTEND;VALUE=DATE:20181107
DTSTAMP:20260425T192502
CREATED:20181005T123633Z
LAST-MODIFIED:20181019T085008Z
UID:3631-1541462400-1541548799@kyreniamunicipality.com
SUMMARY:ΤΑΚΤΙΚΗ ΣΥΝΕΔΡΙΑΣΗ ΤΟΥ ΔΗΜΟΤΙΚΟΥ ΣΥΜΒΟΥΛΙΟΥ
DESCRIPTION:
URL:https://kyreniamunicipality.com/event/taktiki-synedriasi-tou-dimotikou-symvouliou-2/
END:VEVENT
BEGIN:VEVENT
DTSTART;VALUE=DATE:20181028
DTEND;VALUE=DATE:20181029
DTSTAMP:20260425T192502
CREATED:20181001T094218Z
LAST-MODIFIED:20190531T094934Z
UID:5573-1540684800-1540771199@kyreniamunicipality.com
SUMMARY:Η ΝΕΟΛΑΙΑΣ ΤΗΣ ΚΕΡΥΝΕΙΑΣ ΣΥΜΜΕΤΕΧΕΙ ΣΤΗΝ ΠΑΡΕΛΑΣΗ
DESCRIPTION:
URL:http://kyreniamunicipality.com/i-neolai-tis-keryneias-parease-28-10-2018/
CATEGORIES:Εκδηλώσεις Δ.Σ. Νεολαίας
END:VEVENT
BEGIN:VEVENT
DTSTART;VALUE=DATE:20181021
DTEND;VALUE=DATE:20181022
DTSTAMP:20260425T192502
CREATED:20180111T084005Z
LAST-MODIFIED:20181025T112824Z
UID:2663-1540080000-1540166399@kyreniamunicipality.com
SUMMARY:ΕΚΔΡΟΜΗ ΚΕΡΥΝΕΙΩΤΩΝ
DESCRIPTION:Η Δήμαρχος και το Δημοτικό Συμβούλιο Κερύνειας προσκαλούν τους δημότες τους στην ετήσια εκδρομή των Κερυνειωτών την Κυριακή\, 21 Οκτωβρίου 2018. Το Πρόγραμμα συμπεριλαμβάνει: \n\nΠροσκύνημα στον Ιερό Ναό Αγίου Αρσενίου\, στο χωριό Κυπερούντα\nΚαφές και περιδιάβαση στην πλατεία του χωριού\nΓεύμα στο εστιατόριο «Χρυσανθής»\n\nΟ Δήμος Κερύνειας θα διαθέσει λεωφορεία για μετάβαση των Κερυνειωτών απ’ όλες τις πόλεις (Λευκωσία\, Λεμεσός\, Λάρνακα και Πάφο) Η μετάβαση και το γεύμα προσφέρεται δωρεάν για \nτους δημότες μας. Μη δημότες και φίλοι της Κερύνειας μπορούν να συμμετέχουν πληρώνοντας € 15 (μετάβαση & γεύμα) \nΔΗΛΩΣΕΙΣ ΣΥΜΜΕΤΟΧΗΣ ΜΕΧΡΙ 17/10/18 \nΔηλώσεις συμμετοχής από Λευκωσία\, Λάρνακα και Πάφο\, στα γραφεία του Δήμου Κερύνειας\, 22818040. \nΔηλώσεις συμμετοχής από Λεμεσό: \n\nΜαρία Μουστάκα Κουρούγιαννη\, 99457396\nΘεόδωρος Λαφαζάνης\, 99774711\n\nΏρα αναχώρησης από Λευκωσία: \n\n08.00 π.μ. Παλαιό Νοσοκομείο\n08.00 π.μ. Συν. Στροβόλου ΙΙΙ\, εκκλησία Παναγία Τράχωνα\n08.15 π.μ. Συν. Στροβόλου ΙΙ\, εκκλ. Απ. Λουκά\n\nΏρα αναχώρησης από Λεμεσό: \n\n08.00 π.μ. Λινόπετρα\n08.15 π.μ. Άγιος Αθανάσιος\n08.30 π.μ. Άγιος Γεώργιος Χαβούζας
URL:http://kyreniamunicipality.com/etisia-ekdromi-keryneioton/
CATEGORIES:Εκδηλώσεις Δήμου Κερύνειας
END:VEVENT
BEGIN:VEVENT
DTSTART;TZID=Europe/Athens:20181019T190000
DTEND;TZID=Europe/Athens:20181019T210000
DTSTAMP:20260425T192502
CREATED:20181010T122854Z
LAST-MODIFIED:20181024T120355Z
UID:4595-1539975600-1539982800@kyreniamunicipality.com
SUMMARY:ΟΜΟΣΠΟΝΔΙΑ ΣΥΝΔ. ΓΟΝΕΩΝ ΚΕΡΥΝΕΙΑΣ
DESCRIPTION:
URL:https://kyreniamunicipality.com/event/omospondia-synd-goneon-keryneias/
END:VEVENT
BEGIN:VEVENT
DTSTART;TZID=Europe/Athens:20181011T103000
DTEND;TZID=Europe/Athens:20181011T113000
DTSTAMP:20260425T192502
CREATED:20181010T122826Z
LAST-MODIFIED:20181019T084941Z
UID:4594-1539253800-1539257400@kyreniamunicipality.com
SUMMARY:ΣΥΝΕΔΡΙΑ ΕΠΙΤΡΟΠΗΣ ΠΕΡΙΟΔΙΚΟΥ
DESCRIPTION:
URL:https://kyreniamunicipality.com/event/synedria-epitropis-periodikou-3/
END:VEVENT
BEGIN:VEVENT
DTSTART;TZID=Europe/Athens:20181009T160000
DTEND;TZID=Europe/Athens:20181009T170000
DTSTAMP:20260425T192502
CREATED:20181010T122800Z
LAST-MODIFIED:20181019T085016Z
UID:4592-1539100800-1539104400@kyreniamunicipality.com
SUMMARY:ΣΥΝΕΔΡΙΑ ΛΑΟΓΡΑΦΙΚΟΥ ΟΜΙΛΟΥ ΚΕΡΥΝΕΙΑΣ
DESCRIPTION:
URL:https://kyreniamunicipality.com/event/synedria-laografikou-omilou-keryneias/
END:VEVENT
BEGIN:VEVENT
DTSTART;VALUE=DATE:20181008
DTEND;VALUE=DATE:20181009
DTSTAMP:20260425T192502
CREATED:20181010T123753Z
LAST-MODIFIED:20181019T085023Z
UID:4614-1538956800-1539043199@kyreniamunicipality.com
SUMMARY:Συνεδρίαση Δημοτικού Συμβουλίου Νεολαίας  Δήμου Κερύνειας
DESCRIPTION:
URL:https://kyreniamunicipality.com/event/synedriasi-dimotikou-symvouliou-neolaias-dimou-keryneias-9/
END:VEVENT
BEGIN:VEVENT
DTSTART;VALUE=DATE:20181002
DTEND;VALUE=DATE:20181003
DTSTAMP:20260425T192502
CREATED:20181005T123456Z
LAST-MODIFIED:20181019T085038Z
UID:3629-1538438400-1538524799@kyreniamunicipality.com
SUMMARY:ΤΑΚΤΙΚΗ ΣΥΝΕΔΡΙΑΣΗ ΤΟΥ ΔΗΜΟΤΙΚΟΥ ΣΥΜΒΟΥΛΙΟΥ
DESCRIPTION:
URL:https://kyreniamunicipality.com/event/taktiki-synedriasi-tou-dimotikou-symvouliou/
END:VEVENT
BEGIN:VEVENT
DTSTART;TZID=Europe/Athens:20180927T100000
DTEND;TZID=Europe/Athens:20180927T110000
DTSTAMP:20260425T192502
CREATED:20181010T122501Z
LAST-MODIFIED:20181024T120857Z
UID:4587-1538042400-1538046000@kyreniamunicipality.com
SUMMARY:ΠΟΛΙΤΙΣΤΙΚΟ ΙΔΡΥΜΑ ΑΡΧ. ΜΑΚΑΡΙΟΣ
DESCRIPTION:
URL:https://kyreniamunicipality.com/event/politistiko-idryma-arch-makarios/
END:VEVENT
BEGIN:VEVENT
DTSTART;TZID=Europe/Athens:20180919T103000
DTEND;TZID=Europe/Athens:20180919T113000
DTSTAMP:20260425T192502
CREATED:20181010T122307Z
LAST-MODIFIED:20181019T085047Z
UID:4586-1537353000-1537356600@kyreniamunicipality.com
SUMMARY:ΣΥΝΕΔΡΙΑ ΕΠΙΤΡΟΠΗΣ ΠΕΡΙΟΔΙΚΟΥ
DESCRIPTION:
URL:https://kyreniamunicipality.com/event/synedria-epitropis-periodikou-2/
END:VEVENT
BEGIN:VEVENT
DTSTART;VALUE=DATE:20180915
DTEND;VALUE=DATE:20180917
DTSTAMP:20260425T192502
CREATED:20180831T125828Z
LAST-MODIFIED:20190531T130731Z
UID:5583-1536969600-1537142399@kyreniamunicipality.com
SUMMARY:ΔΙΗΜΕΡΟ ΑΣΤΡΟΠΑΡΑΤΗΡΗΣΗΣ
DESCRIPTION:
URL:http://kyreniamunicipality.com/diimero-astroparatirisis/
CATEGORIES:Εκδηλώσεις Δ.Σ. Νεολαίας
END:VEVENT
BEGIN:VEVENT
DTSTART;TZID=Europe/Athens:20180911T190000
DTEND;TZID=Europe/Athens:20180911T200000
DTSTAMP:20260425T192502
CREATED:20181010T122146Z
LAST-MODIFIED:20181019T085106Z
UID:4585-1536692400-1536696000@kyreniamunicipality.com
SUMMARY:ΣΥΝΕΔΡΙΑ ΣΧΟΛΙΚΗΣ ΕΦΟΡΕΙΑΣ
DESCRIPTION:
URL:https://kyreniamunicipality.com/event/synedria-scholikis-eforeias-4/
END:VEVENT
BEGIN:VEVENT
DTSTART;VALUE=DATE:20180907
DTEND;VALUE=DATE:20180908
DTSTAMP:20260425T192502
CREATED:20180817T055841Z
LAST-MODIFIED:20180910T134911Z
UID:3336-1536278400-1536364799@kyreniamunicipality.com
SUMMARY:ΕΣΠΕΡΙΝΟΣ ΠΑΝΑΓΙΑΣ ΤΗΣ ΓΛΥΚΙΩΤΙΣΣΑΣ ΣΤΑ ΠΟΛΕΜΙΔΙΑ ΤΗΣ ΛΕΜΕΣΟΥ
DESCRIPTION:
URL:https://kyreniamunicipality.com/event/esperinos-panagias-tin-glykiotissas-sta-polemidia-tis-lemesou/
CATEGORIES:Εκδηλώσεις Δήμου Κερύνειας
END:VEVENT
BEGIN:VEVENT
DTSTART;TZID=Europe/Athens:20180830T180000
DTEND;TZID=Europe/Athens:20180830T190000
DTSTAMP:20260425T192502
CREATED:20181010T122035Z
LAST-MODIFIED:20181019T085101Z
UID:4584-1535652000-1535655600@kyreniamunicipality.com
SUMMARY:ΣΥΝΕΔΡΙΑ ΣΧΟΛΙΚΗ ΕΦΟΡΕΙΑ
DESCRIPTION:
URL:https://kyreniamunicipality.com/event/synedria-scholiki-eforeia/
END:VEVENT
BEGIN:VEVENT
DTSTART;VALUE=DATE:20180829
DTEND;VALUE=DATE:20180830
DTSTAMP:20260425T192502
CREATED:20181010T123704Z
LAST-MODIFIED:20181019T085053Z
UID:4612-1535500800-1535587199@kyreniamunicipality.com
SUMMARY:Συνεδρίαση Δημοτικού Συμβουλίου Νεολαίας  Δήμου Κερύνειας
DESCRIPTION:
URL:https://kyreniamunicipality.com/event/synedriasi-dimotikou-symvouliou-neolaias-dimou-keryneias-8/
END:VEVENT
BEGIN:VEVENT
DTSTART;VALUE=DATE:20180725
DTEND;VALUE=DATE:20180726
DTSTAMP:20260425T192502
CREATED:20181010T123505Z
LAST-MODIFIED:20181019T085114Z
UID:4609-1532476800-1532563199@kyreniamunicipality.com
SUMMARY:Συνεδρίαση Δημοτικού Συμβουλίου Νεολαίας  Δήμου Κερύνειας
DESCRIPTION:
URL:https://kyreniamunicipality.com/event/synedriasi-dimotikou-symvouliou-neolaias-dimou-keryneias-7/
END:VEVENT
BEGIN:VEVENT
DTSTART;VALUE=DATE:20180723
DTEND;VALUE=DATE:20180724
DTSTAMP:20260425T192502
CREATED:20180706T062313Z
LAST-MODIFIED:20181025T074347Z
UID:3092-1532304000-1532390399@kyreniamunicipality.com
SUMMARY:ΑΝΤΙΚΑΤΟΧΙΚΕΣ ΕΚΔΗΛΩΣΕΙΣ ΜΝΗΜΗΣ\, ΤΙΜΗΣ\, ΚΑΙ ΑΓΩΝΑ ΕΠΑΡΧΙΑΣ ΚΕΡΥΝΕΙΑΣ
DESCRIPTION:
URL:http://kyreniamunicipality.com/antikatochikes-ekdiloseis-mnimis-timis-kai-agona-eparchias-keryneias/
CATEGORIES:Εκδηλώσεις Δήμου Κερύνειας
END:VEVENT
BEGIN:VEVENT
DTSTART;TZID=Europe/Athens:20180718T110000
DTEND;TZID=Europe/Athens:20180718T120000
DTSTAMP:20260425T192502
CREATED:20181010T121639Z
LAST-MODIFIED:20181019T085121Z
UID:4582-1531911600-1531915200@kyreniamunicipality.com
SUMMARY:ΣΥΝΕΔΡΙΑ ΕΠΙΤΡΟΠΗ ΕΚΔΟΣΕΩΝ
DESCRIPTION:
URL:https://kyreniamunicipality.com/event/synedria-epitropi-ekdoseon/
END:VEVENT
BEGIN:VEVENT
DTSTART;TZID=Europe/Athens:20180710T110000
DTEND;TZID=Europe/Athens:20180710T120000
DTSTAMP:20260425T192502
CREATED:20181010T121553Z
LAST-MODIFIED:20181019T085128Z
UID:4580-1531220400-1531224000@kyreniamunicipality.com
SUMMARY:ΣΥΝΕΔΡΙΑ ΕΠΙΤΡΟΠΗΣ ΔΗΜΟΤΙΚΩΝ
DESCRIPTION:
URL:https://kyreniamunicipality.com/event/synedria-epitropis-dimotikon/
END:VEVENT
BEGIN:VEVENT
DTSTART;VALUE=DATE:20180709
DTEND;VALUE=DATE:20180710
DTSTAMP:20260425T192502
CREATED:20180716T070949Z
LAST-MODIFIED:20180716T071014Z
UID:3150-1531094400-1531180799@kyreniamunicipality.com
SUMMARY:ΑΝΤΙΚΑΤΟΧΙΚΗ ΕΚΔΗΛΩΣΗ «ΜΝΗΜΕΣ ΚΕΡΥΝΕΙΑΣ»
DESCRIPTION:
URL:https://kyreniamunicipality.com/event/antikatochiki-ekdilosi-mnimes-keryneias/
CATEGORIES:Εκδηλώσεις Δήμου Κερύνειας
END:VEVENT
BEGIN:VEVENT
DTSTART;VALUE=DATE:20180708
DTEND;VALUE=DATE:20180709
DTSTAMP:20260425T192502
CREATED:20180702T122735Z
LAST-MODIFIED:20180711T131707Z
UID:3057-1531008000-1531094399@kyreniamunicipality.com
SUMMARY:ΜΝΗΜΟΣΥΝΟ ΠΕΣΟΝΤΩΝ ΚΑΙ ΔΕΗΣΗ ΑΓΝΟΟΥΜΕΝΩΝ
DESCRIPTION:Η Δήμαρχος και το Δημοτικό Συμβούλιο του Δήμου Κερύνειας\nσας προσκαλούν να τιμήσετε με την παρουσία σας\nτη μνήμη των πεσόντων Κερυνειωτών\nκατά την βάρβαρη Τουρκική εισβολή του 1974\nκαι τη δέηση για τους αγνοούμενους της πόλης της Κερύνειας\nπου θα τελεστεί \nτην Κυριακή\, 8 Iουλίου 2018\nστον Ιερό ναό Αγίου Παντελεήμονος\nστην Μακεδονίτισσα \nΘα ακολουθήσει τελετή κατάθεσης στεφάνων\, στο Mνημείο Πεσόντων και Αγνοουμένων του Δήμου Κερύνειας\, κοντά στον Τύμβο Μακεδονίτισσας \nΑλλ΄ αν τις απεθάνη δια την πατρίδα\nΗ μύρτος φύλλον ατίμητον\,\nΚαι καλά τα κλαδιά της κυπαρίσσου. \nΑνδρέας Κάλβος
URL:https://kyreniamunicipality.com/event/mnimosyno-pesonton-kai-deisi-agnooumenon-2/
CATEGORIES:Εκδηλώσεις Δήμου Κερύνειας
END:VEVENT
END:VCALENDAR