BEGIN:VCALENDAR
VERSION:2.0
PRODID:-//Kerynia Municipality - ECPv6.15.20//NONSGML v1.0//EN
CALSCALE:GREGORIAN
METHOD:PUBLISH
X-ORIGINAL-URL:https://kyreniamunicipality.com
X-WR-CALDESC:Events for Kerynia Municipality
REFRESH-INTERVAL;VALUE=DURATION:PT1H
X-Robots-Tag:noindex
X-PUBLISHED-TTL:PT1H
BEGIN:VTIMEZONE
TZID:Europe/Athens
BEGIN:DAYLIGHT
TZOFFSETFROM:+0200
TZOFFSETTO:+0300
TZNAME:EEST
DTSTART:20240331T010000
END:DAYLIGHT
BEGIN:STANDARD
TZOFFSETFROM:+0300
TZOFFSETTO:+0200
TZNAME:EET
DTSTART:20241027T010000
END:STANDARD
BEGIN:DAYLIGHT
TZOFFSETFROM:+0200
TZOFFSETTO:+0300
TZNAME:EEST
DTSTART:20250330T010000
END:DAYLIGHT
BEGIN:STANDARD
TZOFFSETFROM:+0300
TZOFFSETTO:+0200
TZNAME:EET
DTSTART:20251026T010000
END:STANDARD
BEGIN:DAYLIGHT
TZOFFSETFROM:+0200
TZOFFSETTO:+0300
TZNAME:EEST
DTSTART:20260329T010000
END:DAYLIGHT
BEGIN:STANDARD
TZOFFSETFROM:+0300
TZOFFSETTO:+0200
TZNAME:EET
DTSTART:20261025T010000
END:STANDARD
BEGIN:DAYLIGHT
TZOFFSETFROM:+0200
TZOFFSETTO:+0300
TZNAME:EEST
DTSTART:20270328T010000
END:DAYLIGHT
BEGIN:STANDARD
TZOFFSETFROM:+0300
TZOFFSETTO:+0200
TZNAME:EET
DTSTART:20271031T010000
END:STANDARD
END:VTIMEZONE
BEGIN:VEVENT
DTSTART;TZID=Europe/Athens:20250516T190000
DTEND;TZID=Europe/Athens:20250516T213000
DTSTAMP:20260425T165035
CREATED:20250217T104733Z
LAST-MODIFIED:20250516T102714Z
UID:13331-1747422000-1747431000@kyreniamunicipality.com
SUMMARY:Εκδήλωση προς τιμή των βασικών συντελεστών της θρυλικής Ομάδας ΠΑΕΚ και ΠΑΕΕΚ\, ανακήρυξη του Δρος. Νίκου Παυλίδη ως Επίτιμου Δημότη Κερύνειας
DESCRIPTION:ΠΡΟΣΚΛΗΣΗ \nΟ Δήμαρχος\, κ. Ιωσήφ Βιολάρης και το Δημοτικό Συμβούλιο Δήμου Κερύνειας\, σας προσκαλούν σε εκδήλωση προς τιμή των βασικών συντελεστών της θρυλικής Ομάδας ΠΑΕΚ και ΠΑΕΕΚ\, \n\nκ. Αλέκου Ιακωβίδη\, προπονητή\, καλαθοσφαιριστή και πετοσφαιριστή\,\nτου εκλιπόντος Ερμή Χριστοδούλου\, καλαθοσφαιριστή και πετοσφαιριστή και\nτου Δρος. Νίκου Παυλίδη\, Γενικού Γραμματέα και Προέδρου της Ομάδας\, για την προσφορά όλων στον αθλητισμό της πόλης και γενικότερα στην Κερύνεια.\n\nΗ εκδήλωση αποσκοπεί στη αναγνώριση της πολύτιμης συνεισφοράς τους στον αθλητισμό της πόλης και στη ανάδειξη της σημασίας της προσφοράς τους για την Κερύνεια. \nΚατά τη διάρκεια της εκδήλωσης θα υλοποιηθεί και η απόφαση του Δημοτικού Συμβουλίου για ανακήρυξη του Δρος. Νίκου Παυλίδη ως  Επίτιμου Δημότη Κερύνειας στο πλαίσιο της επίσημης αναγνώριση της προσφοράς του. \nΠαρασκευή\, 16 Μαΐου\, στις 7.30 μ.μ.\, στους κήπους του προσωρινού Δημαρχείου Κερύνειας \nΠΡΟΓΡΑΜΜΑ  ΕΚΔΗΛΩΣΗΣ \nΤην εκδήλωση θα παρουσιάσει ο δημοσιογράφος του ΡΙΚ\, Γιώργος Μελετίου \n\nΚαλωσόρισμα Δημάρχου Κερύνειας\, κου. Ιωσήφ Βιολάρη.\nΧαιρετισμός Υπουργού Παιδείας\, Αθλητισμού και Νεολαίας\,\n\nκας. Αθηνάς Μιχαηλίδου. \n\nΧαιρετισμός Προέδρου του Δ.Σ. του Ιδρύματος Βασίλη Παπαντωνίου\, κας. Γεωργίας Κρητικού Σαμαρά.\nΙστορική Αναδρομή για τον αθλητισμό στην Κερύνεια.\n\nΑνάγνωση απόφασης του Δημοτικού Συμβουλίου για απόδοση τιμής στον κ. Αλέκο Ιακωβίδη και Ερμή Χριστοδούλου και για ανακήρυξη του Δρος. Νίκου Παυλίδη σε Επίτιμο Δημότη Κερύνειας\, από τον Αντιδήμαρχο Κερύνειας κ. Θεόδωρο Λαφαζάνη. \nΤους τιμώμενους θα παρουσιάσουν: \n\nTον κ. Αλέκο Ιακωβίδη\, ο αθλητικογράφος κος. Πέτρος Χατζηχριστοδούλου\,\nτον Ερμή Χριστοδούλου\, ο κος. Πανίκος Πάρπας\, Δημοτικός Σύμβουλος Κερύνειας και\nτον Δρα. Νίκο Παυλίδη\, ο κος. Πάνος Ηλιόπουλος\, Δημοτικός Σύμβουλος Κερύνειας.\nΕπίδοση τιμητικών διακρίσεων.\nΑντιφωνήσεις\n\nΘα ακολουθήσει δεξίωση \nΤην εκδήλωση θα παρουσιάσει ο δημοσιογράφος του ΡΙΚ\, Γιώργος Μελετίου \nΤην Εκδήλωση συνδιοργανώνουν ο Δήμος Κερύνειας και το Σωματείο Ευημερίας Κερυνειωτών (Σ.Ε.ΚΕ) \nΣτον χώρο της εκδήλωσης θα υπάρξει και έκθεση φωτογραφιών.
URL:https://kyreniamunicipality.com/event/ekdilosis-timis-athlites-paeek/
CATEGORIES:Εκδηλώσεις Δήμου Κερύνειας
END:VEVENT
BEGIN:VEVENT
DTSTART;VALUE=DATE:20250529
DTEND;VALUE=DATE:20250530
DTSTAMP:20260425T165035
CREATED:20250217T104847Z
LAST-MODIFIED:20250217T104847Z
UID:13332-1748476800-1748563199@kyreniamunicipality.com
SUMMARY:Συνεδρίαση Επιτρ ΠΜΔ παράδοση αποτελεσμάτων 28 Διαγωνισμού και θέματα 29ου
DESCRIPTION:
URL:https://kyreniamunicipality.com/event/synedriasi-epitr-pmd-paradosi-apotelesmaton-28-diagonismou-kai-themata-29ou/
CATEGORIES:Εκδηλώσεις Δήμου Κερύνειας
END:VEVENT
BEGIN:VEVENT
DTSTART;VALUE=DATE:20250603
DTEND;VALUE=DATE:20250604
DTSTAMP:20260425T165035
CREATED:20250217T104938Z
LAST-MODIFIED:20250217T104938Z
UID:13333-1748908800-1748995199@kyreniamunicipality.com
SUMMARY:Ενημέρωση Σχολείων για Διακριθέντες ΠΜΔ / Πρόσκληση εκδήλωσης
DESCRIPTION:
URL:https://kyreniamunicipality.com/event/enimerosi-scholeion-gia-diakrithentes-pmd-prosklisi-ekdilosis/
CATEGORIES:Εκδηλώσεις Δήμου Κερύνειας
END:VEVENT
BEGIN:VEVENT
DTSTART;TZID=Europe/Athens:20250609T160000
DTEND;TZID=Europe/Athens:20250609T170000
DTSTAMP:20260425T165035
CREATED:20250217T105025Z
LAST-MODIFIED:20250217T105025Z
UID:13334-1749484800-1749488400@kyreniamunicipality.com
SUMMARY:Κατακλυσμός Επαρχίας Κερύνειας
DESCRIPTION:
URL:https://kyreniamunicipality.com/event/kataklysmos-eparchias-keryneias-3/
CATEGORIES:Εκδηλώσεις Δήμου Κερύνειας
END:VEVENT
BEGIN:VEVENT
DTSTART;TZID=Europe/Athens:20250619T190000
DTEND;TZID=Europe/Athens:20250619T190000
DTSTAMP:20260425T165035
CREATED:20250606T111056Z
LAST-MODIFIED:20250606T111056Z
UID:13559-1750359600-1750359600@kyreniamunicipality.com
SUMMARY:Εκδήλωση βράβευσης προσωπικοτήτων του Aθλητισμού και του Πολιτισμού
DESCRIPTION:Προσκαλείστε σε εκδήλωση βράβευσης προσωπικοτήτων του Αθλητισμού και του Πολιτισμού που διοργανώνει η Επιτροπή Κατεχομένων Δήμων την Πέμπτη\, 19 Ιουνίου 2025\, ώρα 7:00μ.μ.\, Αίθουσα Πάνος Σολομωνίδης στη Λεμεσό. \nΟ Δήμος Κερύνειας θα τιμήσει τον Ιστιοπλόο\, Ανδρέα Καριόλου\, την ιστορική καλαθοσφαιρική ομάδα της ΠΑΕΚ 1970-1974 την αείμνηστη συγγραφέα\, Ρήνα Κατσελλη και τον συνθέτη\, Μάριο Ιωάννου Ηλία.
URL:https://kyreniamunicipality.com/event/ekdilosi-vravefsis-prosopikotiton-tou-athlitismou-kai-tou-politismou/
LOCATION:Αίθουσα Πάνος Σολομωνίδης\, Λεμεσός\, Cyprus
CATEGORIES:Εκδηλώσεις Δήμου Κερύνειας
END:VEVENT
BEGIN:VEVENT
DTSTART;VALUE=DATE:20250620
DTEND;VALUE=DATE:20250621
DTSTAMP:20260425T165035
CREATED:20250217T105046Z
LAST-MODIFIED:20250217T105046Z
UID:13335-1750377600-1750463999@kyreniamunicipality.com
SUMMARY:Ανθρώπινη Αλυσίδα
DESCRIPTION:
URL:https://kyreniamunicipality.com/event/anthropini-alysida/
CATEGORIES:Εκδηλώσεις Δήμου Κερύνειας
END:VEVENT
BEGIN:VEVENT
DTSTART;TZID=Europe/Athens:20250626T190000
DTEND;TZID=Europe/Athens:20250626T200000
DTSTAMP:20260425T165035
CREATED:20250217T105112Z
LAST-MODIFIED:20250217T105112Z
UID:13336-1750964400-1750968000@kyreniamunicipality.com
SUMMARY:Βραβεύσεις Τελειοφοιτων/ ΠΜΔ
DESCRIPTION:
URL:https://kyreniamunicipality.com/event/vravefseis-teleiofoiton-pmd/
CATEGORIES:Εκδηλώσεις Δήμου Κερύνειας
END:VEVENT
BEGIN:VEVENT
DTSTART;TZID=Europe/Athens:20250716T190000
DTEND;TZID=Europe/Athens:20250716T200000
DTSTAMP:20260425T165035
CREATED:20250217T105205Z
LAST-MODIFIED:20250217T105205Z
UID:13337-1752692400-1752696000@kyreniamunicipality.com
SUMMARY:Τρισάγιο στο Μνημείο Πεσόντων και Αγνοουμενων
DESCRIPTION:
URL:https://kyreniamunicipality.com/event/trisagio-sto-mnimeio-pesonton-kai-agnooumenon/
CATEGORIES:Εκδηλώσεις Δήμου Κερύνειας
END:VEVENT
BEGIN:VEVENT
DTSTART;TZID=Europe/Athens:20250722T120000
DTEND;TZID=Europe/Athens:20250722T190000
DTSTAMP:20260425T165035
CREATED:20250217T105324Z
LAST-MODIFIED:20250217T105324Z
UID:13338-1753185600-1753210800@kyreniamunicipality.com
SUMMARY:Αντικατοχική Εκδήλωση Επ. Κερύνειας Τύμβο
DESCRIPTION:
URL:https://kyreniamunicipality.com/event/antikatochiki-ekdilosi-ep-keryneias-tymvo/
CATEGORIES:Εκδηλώσεις Δήμου Κερύνειας
END:VEVENT
BEGIN:VEVENT
DTSTART;TZID=Europe/Athens:20250906T153000
DTEND;TZID=Europe/Athens:20250906T163000
DTSTAMP:20260425T165035
CREATED:20250217T105350Z
LAST-MODIFIED:20250217T105350Z
UID:13339-1757172600-1757176200@kyreniamunicipality.com
SUMMARY:Εσπερινός Παναγίας Γλυκιώτισσας
DESCRIPTION:
URL:https://kyreniamunicipality.com/event/esperinos-panagias-glykiotissas-3/
CATEGORIES:Εκδηλώσεις Δήμου Κερύνειας
END:VEVENT
BEGIN:VEVENT
DTSTART;TZID=Europe/Athens:20251019T090000
DTEND;TZID=Europe/Athens:20251019T163000
DTSTAMP:20260425T165035
CREATED:20250217T105410Z
LAST-MODIFIED:20250217T105410Z
UID:13340-1760864400-1760891400@kyreniamunicipality.com
SUMMARY:Ετήσια Εκδρομή Κερυνειωτών
DESCRIPTION:
URL:https://kyreniamunicipality.com/event/etisia-ekdromi-keryneioton-2/
CATEGORIES:Εκδηλώσεις Δήμου Κερύνειας
END:VEVENT
BEGIN:VEVENT
DTSTART;TZID=Europe/Athens:20251107T163000
DTEND;TZID=Europe/Athens:20251107T173000
DTSTAMP:20260425T165035
CREATED:20250217T105444Z
LAST-MODIFIED:20250217T105444Z
UID:13341-1762533000-1762536600@kyreniamunicipality.com
SUMMARY:Εσπερινός Αρχ. Μιχαήλ
DESCRIPTION:
URL:https://kyreniamunicipality.com/event/esperinos-arch-michail-3/
CATEGORIES:Εκδηλώσεις Δήμου Κερύνειας
END:VEVENT
BEGIN:VEVENT
DTSTART;VALUE=DATE:20251124
DTEND;VALUE=DATE:20251125
DTSTAMP:20260425T165035
CREATED:20250217T105510Z
LAST-MODIFIED:20250217T105510Z
UID:13342-1763942400-1764028799@kyreniamunicipality.com
SUMMARY:Έκδοση Ημερολογίου Δήμου
DESCRIPTION:
URL:https://kyreniamunicipality.com/event/ekdosi-imerologiou-dimou/
CATEGORIES:Εκδηλώσεις Δήμου Κερύνειας
END:VEVENT
BEGIN:VEVENT
DTSTART;VALUE=DATE:20251206
DTEND;VALUE=DATE:20251207
DTSTAMP:20260425T165035
CREATED:20250217T105524Z
LAST-MODIFIED:20250217T105524Z
UID:13343-1764979200-1765065599@kyreniamunicipality.com
SUMMARY:Ετήσιο Συμπόσιο
DESCRIPTION:
URL:https://kyreniamunicipality.com/event/etisio-symposio/
CATEGORIES:Εκδηλώσεις Δήμου Κερύνειας
END:VEVENT
BEGIN:VEVENT
DTSTART;VALUE=DATE:20260601
DTEND;VALUE=DATE:20260602
DTSTAMP:20260425T165035
CREATED:20260423T105505Z
LAST-MODIFIED:20260423T105530Z
UID:14251-1780272000-1780358399@kyreniamunicipality.com
SUMMARY:Εκδήλωση Κατακλυσμού στο Ζύγι (Δήμος Λαπήθου)
DESCRIPTION:
URL:https://kyreniamunicipality.com/event/ekdilosi-kataklysmou-sto-zygi-dimos-lapithou/
END:VEVENT
BEGIN:VEVENT
DTSTART;VALUE=DATE:20260615
DTEND;VALUE=DATE:20260616
DTSTAMP:20260425T165035
CREATED:20260423T105523Z
LAST-MODIFIED:20260423T105523Z
UID:14252-1781481600-1781567999@kyreniamunicipality.com
SUMMARY:Βραβεύσεις Προσωπικοτήτων Αθλητισμού και Πολιτισμού
DESCRIPTION:
URL:https://kyreniamunicipality.com/event/vravefseis-prosopikotiton-athlitismou-kai-politismou/
END:VEVENT
BEGIN:VEVENT
DTSTART;VALUE=DATE:20260619
DTEND;VALUE=DATE:20260620
DTSTAMP:20260425T165035
CREATED:20260423T105546Z
LAST-MODIFIED:20260423T105546Z
UID:14253-1781827200-1781913599@kyreniamunicipality.com
SUMMARY:Συνεστίαση αποφοίτων Γυμνασίου Κερύνειας
DESCRIPTION:
URL:https://kyreniamunicipality.com/event/synestiasi-apofoiton-gymnasiou-keryneias/
END:VEVENT
BEGIN:VEVENT
DTSTART;VALUE=DATE:20260624
DTEND;VALUE=DATE:20260625
DTSTAMP:20260425T165035
CREATED:20260423T105602Z
LAST-MODIFIED:20260423T105602Z
UID:14254-1782259200-1782345599@kyreniamunicipality.com
SUMMARY:Βραβεύσεις Τελειόφοιτων και Παγκύπριου Μαθητικού Διαγωνισμού 2025–2026
DESCRIPTION:
URL:https://kyreniamunicipality.com/event/vravefseis-teleiofoiton-kai-pagkypriou-mathitikou-diagonismou-2025-2026/
END:VEVENT
BEGIN:VEVENT
DTSTART;VALUE=DATE:20260625
DTEND;VALUE=DATE:20260626
DTSTAMP:20260425T165035
CREATED:20260423T105449Z
LAST-MODIFIED:20260423T105508Z
UID:14259-1782345600-1782431999@kyreniamunicipality.com
SUMMARY:Ανακήρυξη Κυριάκου Χαραλαμπίδη σε Επίτιμο Δημότη
DESCRIPTION:
URL:https://kyreniamunicipality.com/event/anakiryksi-kyriakou-charalampidi-se-epitimo-dimoti/
END:VEVENT
BEGIN:VEVENT
DTSTART;VALUE=DATE:20260721
DTEND;VALUE=DATE:20260722
DTSTAMP:20260425T165035
CREATED:20260423T105625Z
LAST-MODIFIED:20260423T105625Z
UID:14255-1784592000-1784678399@kyreniamunicipality.com
SUMMARY:– Τρισάγιο στο Μνημείο Πεσόντων και Αγνοουμένων
DESCRIPTION:
URL:https://kyreniamunicipality.com/event/trisagio-sto-mnimeio-pesonton-kai-agnooumenon-2/
END:VEVENT
BEGIN:VEVENT
DTSTART;VALUE=DATE:20260722
DTEND;VALUE=DATE:20260723
DTSTAMP:20260425T165035
CREATED:20260423T105641Z
LAST-MODIFIED:20260423T105641Z
UID:14256-1784678400-1784764799@kyreniamunicipality.com
SUMMARY:Αντικατοχικες Εκδηλώσεις Επαρχίας Κερύνειας (Τύμβο)
DESCRIPTION:
URL:https://kyreniamunicipality.com/event/antikatochikes-ekdiloseis-eparchias-keryneias-tymvo/
END:VEVENT
BEGIN:VEVENT
DTSTART;VALUE=DATE:20260907
DTEND;VALUE=DATE:20260908
DTSTAMP:20260425T165035
CREATED:20260423T105705Z
LAST-MODIFIED:20260423T105705Z
UID:14257-1788739200-1788825599@kyreniamunicipality.com
SUMMARY:Εκδρομή στην Ελλάδα
DESCRIPTION:
URL:https://kyreniamunicipality.com/event/ekdromi-stin-ellada/
END:VEVENT
BEGIN:VEVENT
DTSTART;VALUE=DATE:20261101
DTEND;VALUE=DATE:20261102
DTSTAMP:20260425T165035
CREATED:20260423T105726Z
LAST-MODIFIED:20260423T105726Z
UID:14258-1793491200-1793577599@kyreniamunicipality.com
SUMMARY:Αγώνας Δρόμου «Τρέχω για την Κερύνεια»
DESCRIPTION:
URL:https://kyreniamunicipality.com/event/agonas-dromou-trecho-gia-tin-keryneia/
END:VEVENT
END:VCALENDAR