BEGIN:VCALENDAR
VERSION:2.0
PRODID:-//Kerynia Municipality - ECPv6.15.20//NONSGML v1.0//EN
CALSCALE:GREGORIAN
METHOD:PUBLISH
X-ORIGINAL-URL:https://kyreniamunicipality.com
X-WR-CALDESC:Events for Kerynia Municipality
REFRESH-INTERVAL;VALUE=DURATION:PT1H
X-Robots-Tag:noindex
X-PUBLISHED-TTL:PT1H
BEGIN:VTIMEZONE
TZID:Europe/Athens
BEGIN:DAYLIGHT
TZOFFSETFROM:+0200
TZOFFSETTO:+0300
TZNAME:EEST
DTSTART:20240331T010000
END:DAYLIGHT
BEGIN:STANDARD
TZOFFSETFROM:+0300
TZOFFSETTO:+0200
TZNAME:EET
DTSTART:20241027T010000
END:STANDARD
BEGIN:DAYLIGHT
TZOFFSETFROM:+0200
TZOFFSETTO:+0300
TZNAME:EEST
DTSTART:20250330T010000
END:DAYLIGHT
BEGIN:STANDARD
TZOFFSETFROM:+0300
TZOFFSETTO:+0200
TZNAME:EET
DTSTART:20251026T010000
END:STANDARD
BEGIN:DAYLIGHT
TZOFFSETFROM:+0200
TZOFFSETTO:+0300
TZNAME:EEST
DTSTART:20260329T010000
END:DAYLIGHT
BEGIN:STANDARD
TZOFFSETFROM:+0300
TZOFFSETTO:+0200
TZNAME:EET
DTSTART:20261025T010000
END:STANDARD
END:VTIMEZONE
BEGIN:VEVENT
DTSTART;TZID=Europe/Athens:20250516T190000
DTEND;TZID=Europe/Athens:20250516T213000
DTSTAMP:20260425T135657
CREATED:20250217T104733Z
LAST-MODIFIED:20250516T102714Z
UID:13331-1747422000-1747431000@kyreniamunicipality.com
SUMMARY:Εκδήλωση προς τιμή των βασικών συντελεστών της θρυλικής Ομάδας ΠΑΕΚ και ΠΑΕΕΚ\, ανακήρυξη του Δρος. Νίκου Παυλίδη ως Επίτιμου Δημότη Κερύνειας
DESCRIPTION:ΠΡΟΣΚΛΗΣΗ \nΟ Δήμαρχος\, κ. Ιωσήφ Βιολάρης και το Δημοτικό Συμβούλιο Δήμου Κερύνειας\, σας προσκαλούν σε εκδήλωση προς τιμή των βασικών συντελεστών της θρυλικής Ομάδας ΠΑΕΚ και ΠΑΕΕΚ\, \n\nκ. Αλέκου Ιακωβίδη\, προπονητή\, καλαθοσφαιριστή και πετοσφαιριστή\,\nτου εκλιπόντος Ερμή Χριστοδούλου\, καλαθοσφαιριστή και πετοσφαιριστή και\nτου Δρος. Νίκου Παυλίδη\, Γενικού Γραμματέα και Προέδρου της Ομάδας\, για την προσφορά όλων στον αθλητισμό της πόλης και γενικότερα στην Κερύνεια.\n\nΗ εκδήλωση αποσκοπεί στη αναγνώριση της πολύτιμης συνεισφοράς τους στον αθλητισμό της πόλης και στη ανάδειξη της σημασίας της προσφοράς τους για την Κερύνεια. \nΚατά τη διάρκεια της εκδήλωσης θα υλοποιηθεί και η απόφαση του Δημοτικού Συμβουλίου για ανακήρυξη του Δρος. Νίκου Παυλίδη ως  Επίτιμου Δημότη Κερύνειας στο πλαίσιο της επίσημης αναγνώριση της προσφοράς του. \nΠαρασκευή\, 16 Μαΐου\, στις 7.30 μ.μ.\, στους κήπους του προσωρινού Δημαρχείου Κερύνειας \nΠΡΟΓΡΑΜΜΑ  ΕΚΔΗΛΩΣΗΣ \nΤην εκδήλωση θα παρουσιάσει ο δημοσιογράφος του ΡΙΚ\, Γιώργος Μελετίου \n\nΚαλωσόρισμα Δημάρχου Κερύνειας\, κου. Ιωσήφ Βιολάρη.\nΧαιρετισμός Υπουργού Παιδείας\, Αθλητισμού και Νεολαίας\,\n\nκας. Αθηνάς Μιχαηλίδου. \n\nΧαιρετισμός Προέδρου του Δ.Σ. του Ιδρύματος Βασίλη Παπαντωνίου\, κας. Γεωργίας Κρητικού Σαμαρά.\nΙστορική Αναδρομή για τον αθλητισμό στην Κερύνεια.\n\nΑνάγνωση απόφασης του Δημοτικού Συμβουλίου για απόδοση τιμής στον κ. Αλέκο Ιακωβίδη και Ερμή Χριστοδούλου και για ανακήρυξη του Δρος. Νίκου Παυλίδη σε Επίτιμο Δημότη Κερύνειας\, από τον Αντιδήμαρχο Κερύνειας κ. Θεόδωρο Λαφαζάνη. \nΤους τιμώμενους θα παρουσιάσουν: \n\nTον κ. Αλέκο Ιακωβίδη\, ο αθλητικογράφος κος. Πέτρος Χατζηχριστοδούλου\,\nτον Ερμή Χριστοδούλου\, ο κος. Πανίκος Πάρπας\, Δημοτικός Σύμβουλος Κερύνειας και\nτον Δρα. Νίκο Παυλίδη\, ο κος. Πάνος Ηλιόπουλος\, Δημοτικός Σύμβουλος Κερύνειας.\nΕπίδοση τιμητικών διακρίσεων.\nΑντιφωνήσεις\n\nΘα ακολουθήσει δεξίωση \nΤην εκδήλωση θα παρουσιάσει ο δημοσιογράφος του ΡΙΚ\, Γιώργος Μελετίου \nΤην Εκδήλωση συνδιοργανώνουν ο Δήμος Κερύνειας και το Σωματείο Ευημερίας Κερυνειωτών (Σ.Ε.ΚΕ) \nΣτον χώρο της εκδήλωσης θα υπάρξει και έκθεση φωτογραφιών.
URL:https://kyreniamunicipality.com/event/ekdilosis-timis-athlites-paeek/
CATEGORIES:Εκδηλώσεις Δήμου Κερύνειας
END:VEVENT
END:VCALENDAR